BEGIN:VCALENDAR
VERSION:2.0
PRODID:-//Love &amp; Service Group of AA - ECPv6.15.20//NONSGML v1.0//EN
CALSCALE:GREGORIAN
METHOD:PUBLISH
X-WR-CALNAME:Love &amp; Service Group of AA
X-ORIGINAL-URL:https://loveandservicegroup.org
X-WR-CALDESC:Events for Love &amp; Service Group of AA
REFRESH-INTERVAL;VALUE=DURATION:PT1H
X-Robots-Tag:noindex
X-PUBLISHED-TTL:PT1H
BEGIN:VTIMEZONE
TZID:America/Los_Angeles
BEGIN:DAYLIGHT
TZOFFSETFROM:-0800
TZOFFSETTO:-0700
TZNAME:PDT
DTSTART:20180311T100000
END:DAYLIGHT
BEGIN:STANDARD
TZOFFSETFROM:-0700
TZOFFSETTO:-0800
TZNAME:PST
DTSTART:20181104T090000
END:STANDARD
BEGIN:DAYLIGHT
TZOFFSETFROM:-0800
TZOFFSETTO:-0700
TZNAME:PDT
DTSTART:20190310T100000
END:DAYLIGHT
BEGIN:STANDARD
TZOFFSETFROM:-0700
TZOFFSETTO:-0800
TZNAME:PST
DTSTART:20191103T090000
END:STANDARD
BEGIN:DAYLIGHT
TZOFFSETFROM:-0800
TZOFFSETTO:-0700
TZNAME:PDT
DTSTART:20200308T100000
END:DAYLIGHT
BEGIN:STANDARD
TZOFFSETFROM:-0700
TZOFFSETTO:-0800
TZNAME:PST
DTSTART:20201101T090000
END:STANDARD
END:VTIMEZONE
BEGIN:VEVENT
DTSTART;TZID=America/Los_Angeles:20191201T180000
DTEND;TZID=America/Los_Angeles:20191201T190000
DTSTAMP:20260422T152623
CREATED:20191013T192603Z
LAST-MODIFIED:20191013T192603Z
UID:803-1575223200-1575226800@loveandservicegroup.org
SUMMARY:Max M. from Chicago\, IL
DESCRIPTION:
URL:https://loveandservicegroup.org/event/max-m-from-chicago-il
LOCATION:Hope Center Covenant Church\, 2275 Morello Ave\, Pleasant Hill\, CA\, 94523\, United States
CATEGORIES:Speaker
END:VEVENT
BEGIN:VEVENT
DTSTART;TZID=America/Los_Angeles:20191124T180000
DTEND;TZID=America/Los_Angeles:20191124T190000
DTSTAMP:20260422T152623
CREATED:20191013T192436Z
LAST-MODIFIED:20191013T192436Z
UID:801-1574618400-1574622000@loveandservicegroup.org
SUMMARY:Unity Panel with the Brentwood Fellowship
DESCRIPTION:
URL:https://loveandservicegroup.org/event/unity-panel-with-the-brentwood-fellowship
LOCATION:Hope Center Covenant Church\, 2275 Morello Ave\, Pleasant Hill\, CA\, 94523\, United States
CATEGORIES:Speaker
END:VEVENT
BEGIN:VEVENT
DTSTART;TZID=America/Los_Angeles:20191117T180000
DTEND;TZID=America/Los_Angeles:20191117T190000
DTSTAMP:20260422T152623
CREATED:20190908T213755Z
LAST-MODIFIED:20191104T004315Z
UID:775-1574013600-1574017200@loveandservicegroup.org
SUMMARY:Norman H. from Oakland
DESCRIPTION:
URL:https://loveandservicegroup.org/event/paul-w-from-sunset-beach-ca
CATEGORIES:Speaker
END:VEVENT
BEGIN:VEVENT
DTSTART;TZID=America/Los_Angeles:20191110T180000
DTEND;TZID=America/Los_Angeles:20191110T190000
DTSTAMP:20260422T152623
CREATED:20190908T213441Z
LAST-MODIFIED:20190908T213441Z
UID:772-1573408800-1573412400@loveandservicegroup.org
SUMMARY:Felica F. from Concord\, CA
DESCRIPTION:
URL:https://loveandservicegroup.org/event/felica-f-from-concord-ca
LOCATION:Hope Center Covenant Church\, 2275 Morello Ave\, Pleasant Hill\, CA\, 94523\, United States
CATEGORIES:Speaker
END:VEVENT
BEGIN:VEVENT
DTSTART;TZID=America/Los_Angeles:20191103T180000
DTEND;TZID=America/Los_Angeles:20191103T190000
DTSTAMP:20260422T152623
CREATED:20191013T192241Z
LAST-MODIFIED:20191013T192241Z
UID:799-1572804000-1572807600@loveandservicegroup.org
SUMMARY:Pat B. from Antioch
DESCRIPTION:
URL:https://loveandservicegroup.org/event/pat-b-from-antioch
LOCATION:Hope Center Covenant Church\, 2275 Morello Ave\, Pleasant Hill\, CA\, 94523\, United States
CATEGORIES:Speaker
END:VEVENT
BEGIN:VEVENT
DTSTART;TZID=America/Los_Angeles:20191027T180000
DTEND;TZID=America/Los_Angeles:20191027T190000
DTSTAMP:20260422T152623
CREATED:20190908T213305Z
LAST-MODIFIED:20190908T213305Z
UID:770-1572199200-1572202800@loveandservicegroup.org
SUMMARY:Butch M. from Toronto\, Canada
DESCRIPTION:
URL:https://loveandservicegroup.org/event/butch-m-from-toronto-canada
LOCATION:Hope Center Covenant Church\, 2275 Morello Ave\, Pleasant Hill\, CA\, 94523\, United States
CATEGORIES:Speaker
END:VEVENT
BEGIN:VEVENT
DTSTART;TZID=America/Los_Angeles:20191020T180000
DTEND;TZID=America/Los_Angeles:20191020T190000
DTSTAMP:20260422T152623
CREATED:20190908T213125Z
LAST-MODIFIED:20190908T213125Z
UID:768-1571594400-1571598000@loveandservicegroup.org
SUMMARY:Mike S. from Martinez\, CA
DESCRIPTION:
URL:https://loveandservicegroup.org/event/mike-s-from-martinez-ca
LOCATION:Hope Center Covenant Church\, 2275 Morello Ave\, Pleasant Hill\, CA\, 94523\, United States
CATEGORIES:Speaker
END:VEVENT
BEGIN:VEVENT
DTSTART;TZID=America/Los_Angeles:20191013T180000
DTEND;TZID=America/Los_Angeles:20191013T190000
DTSTAMP:20260422T152623
CREATED:20190908T212833Z
LAST-MODIFIED:20190908T213146Z
UID:766-1570989600-1570993200@loveandservicegroup.org
SUMMARY:Maddie F. from Walnut Creek\, CA
DESCRIPTION:
URL:https://loveandservicegroup.org/event/maddie-f-from-walnut-creek-ca
LOCATION:Hope Center Covenant Church\, 2275 Morello Ave\, Pleasant Hill\, CA\, 94523\, United States
CATEGORIES:Speaker
END:VEVENT
BEGIN:VEVENT
DTSTART;TZID=America/Los_Angeles:20191013T163000
DTEND;TZID=America/Los_Angeles:20191014T174500
DTSTAMP:20260422T152623
CREATED:20191013T071219Z
LAST-MODIFIED:20191013T071219Z
UID:779-1570984200-1571075100@loveandservicegroup.org
SUMMARY:Monthly Business Meeting
DESCRIPTION:Be a part of the buisness dealings of the Love and Service group if you wish to be a home group member\, or just want to love and serve with us!\nNote this is not a regular AA meeting\, but a place where we discuss the internal operations and buisness that enables the group to host meetings. \nThis is a regular scheduled event that happens on the second sunday of each month at 4:30 pm taking place at the Hope Center.
URL:https://loveandservicegroup.org/event/monthly-business-meeting
LOCATION:Hope Center Covenant Church\, 2275 Morello Ave\, Pleasant Hill\, CA\, 94523\, United States
CATEGORIES:Special Event
END:VEVENT
BEGIN:VEVENT
DTSTART;TZID=America/Los_Angeles:20191006T180000
DTEND;TZID=America/Los_Angeles:20191006T190000
DTSTAMP:20260422T152623
CREATED:20190908T212736Z
LAST-MODIFIED:20190908T212736Z
UID:764-1570384800-1570388400@loveandservicegroup.org
SUMMARY:Home Group Panel- Love & Service Group 12th Anniversary
DESCRIPTION:
URL:https://loveandservicegroup.org/event/home-group-panel-love-service-group-12th-anniversary
LOCATION:Hope Center Covenant Church\, 2275 Morello Ave\, Pleasant Hill\, CA\, 94523\, United States
CATEGORIES:Speaker
END:VEVENT
BEGIN:VEVENT
DTSTART;TZID=America/Los_Angeles:20190929T180000
DTEND;TZID=America/Los_Angeles:20190929T190000
DTSTAMP:20260422T152623
CREATED:20190908T212541Z
LAST-MODIFIED:20190908T212601Z
UID:761-1569780000-1569783600@loveandservicegroup.org
SUMMARY:Kathy Y. from Livermore\, CA
DESCRIPTION:
URL:https://loveandservicegroup.org/event/kathy-y-from-pleasanton-ca
LOCATION:Hope Center Covenant Church\, 2275 Morello Ave\, Pleasant Hill\, CA\, 94523\, United States
CATEGORIES:Speaker
END:VEVENT
BEGIN:VEVENT
DTSTART;TZID=America/Los_Angeles:20190922T180000
DTEND;TZID=America/Los_Angeles:20190922T190000
DTSTAMP:20260422T152623
CREATED:20190707T181235Z
LAST-MODIFIED:20190707T181235Z
UID:754-1569175200-1569178800@loveandservicegroup.org
SUMMARY:DK from San Diego\, CA
DESCRIPTION:
URL:https://loveandservicegroup.org/event/dk-from-san-diego-ca
LOCATION:Hope Center Covenant Church\, 2275 Morello Ave\, Pleasant Hill\, CA\, 94523\, United States
CATEGORIES:Speaker
END:VEVENT
BEGIN:VEVENT
DTSTART;TZID=America/Los_Angeles:20190915T180000
DTEND;TZID=America/Los_Angeles:20190915T190000
DTSTAMP:20260422T152623
CREATED:20190908T212358Z
LAST-MODIFIED:20190908T212440Z
UID:759-1568570400-1568574000@loveandservicegroup.org
SUMMARY:Kirk W. from San Francisco\, CA
DESCRIPTION:
URL:https://loveandservicegroup.org/event/kirk-w-from-san-francisco-ca
LOCATION:Hope Center Covenant Church\, 2275 Morello Ave\, Pleasant Hill\, CA\, 94523\, United States
CATEGORIES:Speaker
END:VEVENT
BEGIN:VEVENT
DTSTART;TZID=America/Los_Angeles:20190908T180000
DTEND;TZID=America/Los_Angeles:20190908T190000
DTSTAMP:20260422T152623
CREATED:20190707T181116Z
LAST-MODIFIED:20190707T181116Z
UID:752-1567965600-1567969200@loveandservicegroup.org
SUMMARY:Darla A. from Concord
DESCRIPTION:
URL:https://loveandservicegroup.org/event/darla-a-from-concord
LOCATION:Hope Center Covenant Church\, 2275 Morello Ave\, Pleasant Hill\, CA\, 94523\, United States
CATEGORIES:Speaker
END:VEVENT
BEGIN:VEVENT
DTSTART;TZID=America/Los_Angeles:20190901T180000
DTEND;TZID=America/Los_Angeles:20190901T190000
DTSTAMP:20260422T152623
CREATED:20190707T180947Z
LAST-MODIFIED:20190707T180947Z
UID:750-1567360800-1567364400@loveandservicegroup.org
SUMMARY:Quarterly Birthday Night
DESCRIPTION:
URL:https://loveandservicegroup.org/event/quarterly-birthday-night
LOCATION:Hope Center Covenant Church\, 2275 Morello Ave\, Pleasant Hill\, CA\, 94523\, United States
CATEGORIES:Speaker
END:VEVENT
BEGIN:VEVENT
DTSTART;TZID=America/Los_Angeles:20190825T180000
DTEND;TZID=America/Los_Angeles:20190825T190000
DTSTAMP:20260422T152623
CREATED:20190707T180829Z
LAST-MODIFIED:20190707T180829Z
UID:748-1566756000-1566759600@loveandservicegroup.org
SUMMARY:Steve B. from Oakland
DESCRIPTION:
URL:https://loveandservicegroup.org/event/steve-b-from-oakland
LOCATION:Hope Center Covenant Church\, 2275 Morello Ave\, Pleasant Hill\, CA\, 94523\, United States
CATEGORIES:Speaker
END:VEVENT
BEGIN:VEVENT
DTSTART;TZID=America/Los_Angeles:20190818T180000
DTEND;TZID=America/Los_Angeles:20190818T190000
DTSTAMP:20260422T152623
CREATED:20190707T175019Z
LAST-MODIFIED:20190707T175050Z
UID:744-1566151200-1566154800@loveandservicegroup.org
SUMMARY:Jeff V. from Jamestown\, North Dakota
DESCRIPTION:
URL:https://loveandservicegroup.org/event/jeff-v-from-jamestown-north-dakota
LOCATION:Hope Center Covenant Church\, 2275 Morello Ave\, Pleasant Hill\, CA\, 94523\, United States
CATEGORIES:Speaker
END:VEVENT
BEGIN:VEVENT
DTSTART;TZID=America/Los_Angeles:20190811T180000
DTEND;TZID=America/Los_Angeles:20190811T190000
DTSTAMP:20260422T152623
CREATED:20190707T180058Z
LAST-MODIFIED:20190707T180058Z
UID:746-1565546400-1565550000@loveandservicegroup.org
SUMMARY:Concord Fellowship Panel
DESCRIPTION:Speakers from The Concord Fellowship in this Unity Event
URL:https://loveandservicegroup.org/event/concord-fellowship-panel
LOCATION:Hope Center Covenant Church\, 2275 Morello Ave\, Pleasant Hill\, CA\, 94523\, United States
CATEGORIES:Speaker
END:VEVENT
BEGIN:VEVENT
DTSTART;TZID=America/Los_Angeles:20190804T180000
DTEND;TZID=America/Los_Angeles:20190804T190000
DTSTAMP:20260422T152623
CREATED:20190420T004306Z
LAST-MODIFIED:20190707T174641Z
UID:728-1564941600-1564945200@loveandservicegroup.org
SUMMARY:Jane G. from Chula Vista\, CA
DESCRIPTION:
URL:https://loveandservicegroup.org/event/jane-g-from-chula-vista-ca
LOCATION:Hope Center Covenant Church\, 2275 Morello Ave\, Pleasant Hill\, CA\, 94523\, United States
CATEGORIES:Speaker
END:VEVENT
BEGIN:VEVENT
DTSTART;TZID=America/Los_Angeles:20190728T180000
DTEND;TZID=America/Los_Angeles:20190728T190000
DTSTAMP:20260422T152623
CREATED:20190707T174041Z
LAST-MODIFIED:20190707T174755Z
UID:738-1564336800-1564340400@loveandservicegroup.org
SUMMARY:Nancy M. from Pleasant Hill (Meeting at Nancy Boyd Park)
DESCRIPTION:Church not available! Picnic & Meeting @ Nancy Boyd Park- \n100 Church St\, Martinez\, CA 94553
URL:https://loveandservicegroup.org/event/nancy-m-from-pleasant-hill
LOCATION:Nancy Boyd Park\, 100 Church St\, Martinez\, 94553\, United States
CATEGORIES:Speaker
END:VEVENT
BEGIN:VEVENT
DTSTART;TZID=America/Los_Angeles:20190728T150000
DTEND;TZID=America/Los_Angeles:20190728T180000
DTSTAMP:20260422T152623
CREATED:20190707T174551Z
LAST-MODIFIED:20190707T174551Z
UID:740-1564326000-1564336800@loveandservicegroup.org
SUMMARY:Love & Service Rule 62 Picnic
DESCRIPTION:Nancy Boyd Park- \n100 Church St\, Martinez\, CA 94553
URL:https://loveandservicegroup.org/event/love-service-rule-62-picnic
LOCATION:Nancy Boyd Park\, 100 Church St\, Martinez\, 94553\, United States
CATEGORIES:Special Event
END:VEVENT
BEGIN:VEVENT
DTSTART;TZID=America/Los_Angeles:20190721T180000
DTEND;TZID=America/Los_Angeles:20190721T190000
DTSTAMP:20260422T152623
CREATED:20190420T004042Z
LAST-MODIFIED:20190707T173441Z
UID:726-1563732000-1563735600@loveandservicegroup.org
SUMMARY:Scott H. from Kamloops\, British Columbia\, Canada
DESCRIPTION:
URL:https://loveandservicegroup.org/event/scott-h-from-kamloops-british-columbia-canada
CATEGORIES:Speaker
END:VEVENT
BEGIN:VEVENT
DTSTART;TZID=America/Los_Angeles:20190719T170000
DTEND;TZID=America/Los_Angeles:20190721T150000
DTSTAMP:20260422T152623
CREATED:20190505T220135Z
LAST-MODIFIED:20190505T220135Z
UID:731-1563555600-1563721200@loveandservicegroup.org
SUMMARY:Unity & Service Conference
DESCRIPTION:Annual Unity & Service Conference \n\nAn exciting weekend conference featuring panel speakers from the following service entities: \n– Hospitals & Institutions\n– Bridging The Gap\n– General Service\n– Public Information/Cooperation with the Professional Community\n– Intergroup/Hotline\n– East Bay Young People in AA\n– Sponsorship \n\nFollowing speakers will be speaking on these topics. \nBob D.\, Las Vegas\, NV\n– Sponsoring: Using All 3 Legacies \nScott H.\, Kamloops\, BC\n– AA Around the World \nMeg & Drew B.\, Concord\, CA\n– Three Legacies in Relationships \nVikki R.\, Yuba City\, CA\n– Safety in AA \nMelissa L.\, Rochester\, NY\n– Concepts in the Home Group \nJeanne Woodford\, CA\n– Speaker – Past Class A Trustee & Past San Quentin Warden
URL:https://loveandservicegroup.org/event/unity-service-conference-2
CATEGORIES:Special Event
END:VEVENT
BEGIN:VEVENT
DTSTART;TZID=America/Los_Angeles:20190714T180000
DTEND;TZID=America/Los_Angeles:20190714T190000
DTSTAMP:20260422T152623
CREATED:20190707T173651Z
LAST-MODIFIED:20190707T174111Z
UID:736-1563127200-1563130800@loveandservicegroup.org
SUMMARY:Kristen F. from Pleasant Hill
DESCRIPTION:
URL:https://loveandservicegroup.org/event/kristen-f-from-pleasant-hill
LOCATION:Hope Center Covenant Church\, 2275 Morello Ave\, Pleasant Hill\, CA\, 94523\, United States
CATEGORIES:Speaker
END:VEVENT
BEGIN:VEVENT
DTSTART;TZID=America/Los_Angeles:20190707T180000
DTEND;TZID=America/Los_Angeles:20190707T190000
DTSTAMP:20260422T152623
CREATED:20190707T172620Z
LAST-MODIFIED:20190707T173343Z
UID:734-1562522400-1562526000@loveandservicegroup.org
SUMMARY:9th Step Amends Panel
DESCRIPTION:Home Group Members Share Experience\, Strength\, & Hope on making amends
URL:https://loveandservicegroup.org/event/9th-step-amends-panel
CATEGORIES:Speaker
END:VEVENT
BEGIN:VEVENT
DTSTART;TZID=America/Los_Angeles:20190623T180000
DTEND;TZID=America/Los_Angeles:20190623T190000
DTSTAMP:20260422T152623
CREATED:20190331T233837Z
LAST-MODIFIED:20190420T003500Z
UID:708-1561312800-1561316400@loveandservicegroup.org
SUMMARY:Madeleine P. from Happy Valley OR
DESCRIPTION:
URL:https://loveandservicegroup.org/event/madeleine-p-happy-valley-or
CATEGORIES:Speaker
END:VEVENT
BEGIN:VEVENT
DTSTART;TZID=America/Los_Angeles:20190623T140000
DTEND;TZID=America/Los_Angeles:20190623T160000
DTSTAMP:20260422T152623
CREATED:20190331T234001Z
LAST-MODIFIED:20190420T003412Z
UID:710-1561298400-1561305600@loveandservicegroup.org
SUMMARY:Safety in AA Workshop
DESCRIPTION:Workshop on Safety in AA to be help by the speaker of the evening: Madeleine P.
URL:https://loveandservicegroup.org/event/tbd-safety-in-aa-workshop
CATEGORIES:Special Event
END:VEVENT
BEGIN:VEVENT
DTSTART;TZID=America/Los_Angeles:20190616T180000
DTEND;TZID=America/Los_Angeles:20190616T190000
DTSTAMP:20260422T152623
CREATED:20190331T233649Z
LAST-MODIFIED:20190331T233712Z
UID:705-1560708000-1560711600@loveandservicegroup.org
SUMMARY:Quarterly Birthdays
DESCRIPTION:Speakers TBD
URL:https://loveandservicegroup.org/event/quarterly-b-days
CATEGORIES:Speaker
END:VEVENT
BEGIN:VEVENT
DTSTART;TZID=America/Los_Angeles:20190609T180000
DTEND;TZID=America/Los_Angeles:20190609T190000
DTSTAMP:20260422T152623
CREATED:20190331T233541Z
LAST-MODIFIED:20190420T003303Z
UID:703-1560103200-1560106800@loveandservicegroup.org
SUMMARY:Shah S. from Oakland CA
DESCRIPTION:
URL:https://loveandservicegroup.org/event/tbd-steve-b-oakland-ca
CATEGORIES:Speaker
END:VEVENT
BEGIN:VEVENT
DTSTART;TZID=America/Los_Angeles:20190602T180000
DTEND;TZID=America/Los_Angeles:20190602T190000
DTSTAMP:20260422T152623
CREATED:20190331T233356Z
LAST-MODIFIED:20190331T233356Z
UID:701-1559498400-1559502000@loveandservicegroup.org
SUMMARY:Jackie B.\, San Francisco CA
DESCRIPTION:
URL:https://loveandservicegroup.org/event/jackie-b-san-francisco-ca
CATEGORIES:Speaker
END:VEVENT
END:VCALENDAR