BEGIN:VCALENDAR
VERSION:2.0
PRODID:-//Love &amp; Service Group of AA - ECPv6.15.20//NONSGML v1.0//EN
CALSCALE:GREGORIAN
METHOD:PUBLISH
X-WR-CALNAME:Love &amp; Service Group of AA
X-ORIGINAL-URL:https://loveandservicegroup.org
X-WR-CALDESC:Events for Love &amp; Service Group of AA
REFRESH-INTERVAL;VALUE=DURATION:PT1H
X-Robots-Tag:noindex
X-PUBLISHED-TTL:PT1H
BEGIN:VTIMEZONE
TZID:America/Los_Angeles
BEGIN:DAYLIGHT
TZOFFSETFROM:-0800
TZOFFSETTO:-0700
TZNAME:PDT
DTSTART:20230312T100000
END:DAYLIGHT
BEGIN:STANDARD
TZOFFSETFROM:-0700
TZOFFSETTO:-0800
TZNAME:PST
DTSTART:20231105T090000
END:STANDARD
BEGIN:DAYLIGHT
TZOFFSETFROM:-0800
TZOFFSETTO:-0700
TZNAME:PDT
DTSTART:20240310T100000
END:DAYLIGHT
BEGIN:STANDARD
TZOFFSETFROM:-0700
TZOFFSETTO:-0800
TZNAME:PST
DTSTART:20241103T090000
END:STANDARD
BEGIN:DAYLIGHT
TZOFFSETFROM:-0800
TZOFFSETTO:-0700
TZNAME:PDT
DTSTART:20250309T100000
END:DAYLIGHT
BEGIN:STANDARD
TZOFFSETFROM:-0700
TZOFFSETTO:-0800
TZNAME:PST
DTSTART:20251102T090000
END:STANDARD
BEGIN:DAYLIGHT
TZOFFSETFROM:-0800
TZOFFSETTO:-0700
TZNAME:PDT
DTSTART:20260308T100000
END:DAYLIGHT
BEGIN:STANDARD
TZOFFSETFROM:-0700
TZOFFSETTO:-0800
TZNAME:PST
DTSTART:20261101T090000
END:STANDARD
END:VTIMEZONE
BEGIN:VEVENT
DTSTART;TZID=America/Los_Angeles:20250112T163000
DTEND;TZID=America/Los_Angeles:20250112T173000
DTSTAMP:20260424T152612
CREATED:20230405T055334Z
LAST-MODIFIED:20230405T055334Z
UID:3599-1736699400-1736703000@loveandservicegroup.org
SUMMARY:Monthly Business Meeting
DESCRIPTION:The monthly business meeting. You can also join via Zoom\, check Slack or our Newsletter for details on joining virtually.
URL:https://loveandservicegroup.org/event/monthly-business-meeting-23
LOCATION:Hope Center Covenant Church\, 2275 Morello Ave\, Pleasant Hill\, CA\, 94523\, United States
CATEGORIES:Business Meeting,Speaker
END:VEVENT
BEGIN:VEVENT
DTSTART;TZID=America/Los_Angeles:20250109T180000
DTEND;TZID=America/Los_Angeles:20250109T190000
DTSTAMP:20260424T152612
CREATED:20250110T055233Z
LAST-MODIFIED:20250110T055233Z
UID:4790-1736445600-1736449200@loveandservicegroup.org
SUMMARY:Grant F. Edmonds\, WA
DESCRIPTION:
URL:https://loveandservicegroup.org/event/grant-f-edmonds-wa
LOCATION:CA
CATEGORIES:Speaker
END:VEVENT
BEGIN:VEVENT
DTSTART;TZID=America/Los_Angeles:20250109T180000
DTEND;TZID=America/Los_Angeles:20250109T190000
DTSTAMP:20260424T152612
CREATED:20250110T055006Z
LAST-MODIFIED:20250110T055006Z
UID:4788-1736445600-1736449200@loveandservicegroup.org
SUMMARY:Birthday Chip Night
DESCRIPTION:
URL:https://loveandservicegroup.org/event/birthday-chip-night
LOCATION:CA
CATEGORIES:Speaker
END:VEVENT
BEGIN:VEVENT
DTSTART;TZID=America/Los_Angeles:20250105T180000
DTEND;TZID=America/Los_Angeles:20250105T190000
DTSTAMP:20260424T152612
CREATED:20241108T022521Z
LAST-MODIFIED:20241108T022646Z
UID:4684-1736100000-1736103600@loveandservicegroup.org
SUMMARY:June G. from Oxnard\, CA
DESCRIPTION:
URL:https://loveandservicegroup.org/event/june-g-from-oxnard-ca
LOCATION:Hope Center Covenant Church\, 2275 Morello Ave\, Pleasant Hill\, CA\, 94523\, United States
CATEGORIES:Speaker
END:VEVENT
BEGIN:VEVENT
DTSTART;TZID=America/Los_Angeles:20241222T180000
DTEND;TZID=America/Los_Angeles:20241222T190000
DTSTAMP:20260424T152612
CREATED:20240905T012244Z
LAST-MODIFIED:20240905T012244Z
UID:4597-1734890400-1734894000@loveandservicegroup.org
SUMMARY:Bob D. from Las Vegas\, Nevada
DESCRIPTION:
URL:https://loveandservicegroup.org/event/bob-d-from-las-vegas-nevada
LOCATION:Hope Center Covenant Church\, 2275 Morello Ave\, Pleasant Hill\, CA\, 94523\, United States
CATEGORIES:Speaker
END:VEVENT
BEGIN:VEVENT
DTSTART;TZID=America/Los_Angeles:20241215T180000
DTEND;TZID=America/Los_Angeles:20241215T190000
DTSTAMP:20260424T152612
CREATED:20241108T022230Z
LAST-MODIFIED:20241108T023112Z
UID:4682-1734285600-1734289200@loveandservicegroup.org
SUMMARY:Alex G. from Martinez\, CA
DESCRIPTION:
URL:https://loveandservicegroup.org/event/alex-g-from-martinez-ca
LOCATION:Hope Center Covenant Church\, 2275 Morello Ave\, Pleasant Hill\, CA\, 94523\, United States
CATEGORIES:Speaker
END:VEVENT
BEGIN:VEVENT
DTSTART;TZID=America/Los_Angeles:20241208T180000
DTEND;TZID=America/Los_Angeles:20241208T190000
DTSTAMP:20260424T152612
CREATED:20240926T024614Z
LAST-MODIFIED:20240926T024614Z
UID:4639-1733680800-1733684400@loveandservicegroup.org
SUMMARY:Alex W. from Los Angeles\, CA
DESCRIPTION:
URL:https://loveandservicegroup.org/event/alex-w-from-los-angeles-ca
LOCATION:Hope Center Covenant Church\, 2275 Morello Ave\, Pleasant Hill\, CA\, 94523\, United States
CATEGORIES:Speaker
END:VEVENT
BEGIN:VEVENT
DTSTART;TZID=America/Los_Angeles:20241208T163000
DTEND;TZID=America/Los_Angeles:20241208T173000
DTSTAMP:20260424T152612
CREATED:20230405T055333Z
LAST-MODIFIED:20230405T055333Z
UID:3598-1733675400-1733679000@loveandservicegroup.org
SUMMARY:Monthly Business Meeting
DESCRIPTION:The monthly business meeting. You can also join via Zoom\, check Slack or our Newsletter for details on joining virtually.
URL:https://loveandservicegroup.org/event/monthly-business-meeting-22
LOCATION:Hope Center Covenant Church\, 2275 Morello Ave\, Pleasant Hill\, CA\, 94523\, United States
CATEGORIES:Business Meeting,Speaker
END:VEVENT
BEGIN:VEVENT
DTSTART;TZID=America/Los_Angeles:20241201T180000
DTEND;TZID=America/Los_Angeles:20241201T190000
DTSTAMP:20260424T152612
CREATED:20241108T021714Z
LAST-MODIFIED:20241108T022059Z
UID:4680-1733076000-1733079600@loveandservicegroup.org
SUMMARY:Unity Panel: On The Rocks Group from Fairfield\, CA
DESCRIPTION:
URL:https://loveandservicegroup.org/event/unity-panel-on-the-rocks-group-from-fairfield-ca
LOCATION:Hope Center Covenant Church\, 2275 Morello Ave\, Pleasant Hill\, CA\, 94523\, United States
CATEGORIES:Speaker
END:VEVENT
BEGIN:VEVENT
DTSTART;TZID=America/Los_Angeles:20241124T180000
DTEND;TZID=America/Los_Angeles:20241124T190000
DTSTAMP:20260424T152612
CREATED:20240926T024442Z
LAST-MODIFIED:20240926T024442Z
UID:4637-1732471200-1732474800@loveandservicegroup.org
SUMMARY:Olis S. from Oakland\, CA
DESCRIPTION:
URL:https://loveandservicegroup.org/event/olis-s-from-oakland-ca
LOCATION:Hope Center Covenant Church\, 2275 Morello Ave\, Pleasant Hill\, CA\, 94523\, United States
CATEGORIES:Speaker
END:VEVENT
BEGIN:VEVENT
DTSTART;TZID=America/Los_Angeles:20241117T180000
DTEND;TZID=America/Los_Angeles:20241117T190000
DTSTAMP:20260424T152612
CREATED:20240926T024403Z
LAST-MODIFIED:20240926T024403Z
UID:4635-1731866400-1731870000@loveandservicegroup.org
SUMMARY:Shelley M. from Chico\, CA
DESCRIPTION:
URL:https://loveandservicegroup.org/event/shelley-m-from-chico-ca-2
LOCATION:Hope Center Covenant Church\, 2275 Morello Ave\, Pleasant Hill\, CA\, 94523\, United States
CATEGORIES:Speaker
END:VEVENT
BEGIN:VEVENT
DTSTART;TZID=America/Los_Angeles:20241110T180000
DTEND;TZID=America/Los_Angeles:20241110T190000
DTSTAMP:20260424T152612
CREATED:20240926T024319Z
LAST-MODIFIED:20240926T024319Z
UID:4633-1731261600-1731265200@loveandservicegroup.org
SUMMARY:Ken M. from Vacaville\, CA
DESCRIPTION:
URL:https://loveandservicegroup.org/event/ken-m-from-vacaville-ca-2
LOCATION:Hope Center Covenant Church\, 2275 Morello Ave\, Pleasant Hill\, CA\, 94523\, United States
CATEGORIES:Speaker
END:VEVENT
BEGIN:VEVENT
DTSTART;TZID=America/Los_Angeles:20241110T163000
DTEND;TZID=America/Los_Angeles:20241110T173000
DTSTAMP:20260424T152612
CREATED:20230405T055319Z
LAST-MODIFIED:20230405T055319Z
UID:3597-1731256200-1731259800@loveandservicegroup.org
SUMMARY:Monthly Business Meeting
DESCRIPTION:The monthly business meeting. You can also join via Zoom\, check Slack or our Newsletter for details on joining virtually.
URL:https://loveandservicegroup.org/event/monthly-business-meeting-21
LOCATION:Hope Center Covenant Church\, 2275 Morello Ave\, Pleasant Hill\, CA\, 94523\, United States
CATEGORIES:Business Meeting,Speaker
END:VEVENT
BEGIN:VEVENT
DTSTART;TZID=America/Los_Angeles:20241103T180000
DTEND;TZID=America/Los_Angeles:20241103T190000
DTSTAMP:20260424T152612
CREATED:20240926T024238Z
LAST-MODIFIED:20240926T024238Z
UID:4631-1730656800-1730660400@loveandservicegroup.org
SUMMARY:Ron D. from Lincoln\, CA
DESCRIPTION:
URL:https://loveandservicegroup.org/event/ron-d-from-lincoln-ca
LOCATION:Hope Center Covenant Church\, 2275 Morello Ave\, Pleasant Hill\, CA\, 94523\, United States
CATEGORIES:Speaker
END:VEVENT
BEGIN:VEVENT
DTSTART;TZID=America/Los_Angeles:20241027T180000
DTEND;TZID=America/Los_Angeles:20241027T190000
DTSTAMP:20260424T152612
CREATED:20240916T184021Z
LAST-MODIFIED:20240916T184021Z
UID:4626-1730052000-1730055600@loveandservicegroup.org
SUMMARY:William S. from Stockton\, CA
DESCRIPTION:
URL:https://loveandservicegroup.org/event/william-s-from-stockton-ca
LOCATION:Hope Center Covenant Church\, 2275 Morello Ave\, Pleasant Hill\, CA\, 94523\, United States
CATEGORIES:Speaker
END:VEVENT
BEGIN:VEVENT
DTSTART;TZID=America/Los_Angeles:20241020T180000
DTEND;TZID=America/Los_Angeles:20241020T190000
DTSTAMP:20260424T152612
CREATED:20240909T173911Z
LAST-MODIFIED:20240909T173911Z
UID:4614-1729447200-1729450800@loveandservicegroup.org
SUMMARY:Courtney A. from Pleasant Hill\, CA
DESCRIPTION:
URL:https://loveandservicegroup.org/event/courtney-a-from-pleasant-hill-ca
LOCATION:Hope Center Covenant Church\, 2275 Morello Ave\, Pleasant Hill\, CA\, 94523\, United States
CATEGORIES:Speaker
END:VEVENT
BEGIN:VEVENT
DTSTART;TZID=America/Los_Angeles:20241013T180000
DTEND;TZID=America/Los_Angeles:20241013T190000
DTSTAMP:20260424T152612
CREATED:20240810T184138Z
LAST-MODIFIED:20240810T184138Z
UID:4568-1728842400-1728846000@loveandservicegroup.org
SUMMARY:Billy N. from Palm Beach Gardens\, FL
DESCRIPTION:
URL:https://loveandservicegroup.org/event/billy-n-from-palm-beach-gardens-fl
LOCATION:Hope Center Covenant Church\, 2275 Morello Ave\, Pleasant Hill\, CA\, 94523\, United States
CATEGORIES:Speaker
END:VEVENT
BEGIN:VEVENT
DTSTART;TZID=America/Los_Angeles:20241013T163000
DTEND;TZID=America/Los_Angeles:20241013T173000
DTSTAMP:20260424T152612
CREATED:20230405T055319Z
LAST-MODIFIED:20230405T055319Z
UID:3596-1728837000-1728840600@loveandservicegroup.org
SUMMARY:Monthly Business Meeting
DESCRIPTION:The monthly business meeting. You can also join via Zoom\, check Slack or our Newsletter for details on joining virtually.
URL:https://loveandservicegroup.org/event/monthly-business-meeting-20
LOCATION:Hope Center Covenant Church\, 2275 Morello Ave\, Pleasant Hill\, CA\, 94523\, United States
CATEGORIES:Business Meeting,Speaker
END:VEVENT
BEGIN:VEVENT
DTSTART;TZID=America/Los_Angeles:20241006T180000
DTEND;TZID=America/Los_Angeles:20241006T190000
DTSTAMP:20260424T152612
CREATED:20240909T173623Z
LAST-MODIFIED:20240909T173623Z
UID:4612-1728237600-1728241200@loveandservicegroup.org
SUMMARY:Love & Service Anniversary
DESCRIPTION:
URL:https://loveandservicegroup.org/event/love-service-anniversary
LOCATION:Hope Center Covenant Church\, 2275 Morello Ave\, Pleasant Hill\, CA\, 94523\, United States
CATEGORIES:Speaker
END:VEVENT
BEGIN:VEVENT
DTSTART;TZID=America/Los_Angeles:20240929T180000
DTEND;TZID=America/Los_Angeles:20240929T190000
DTSTAMP:20260424T152612
CREATED:20240808T193013Z
LAST-MODIFIED:20240808T193013Z
UID:4558-1727632800-1727636400@loveandservicegroup.org
SUMMARY:NCCAA Panel
DESCRIPTION:
URL:https://loveandservicegroup.org/event/nccaa-panel
LOCATION:Hope Center Covenant Church\, 2275 Morello Ave\, Pleasant Hill\, CA\, 94523\, United States
CATEGORIES:Speaker
END:VEVENT
BEGIN:VEVENT
DTSTART;TZID=America/Los_Angeles:20240922T180000
DTEND;TZID=America/Los_Angeles:20240922T190000
DTSTAMP:20260424T152612
CREATED:20240808T192856Z
LAST-MODIFIED:20240808T192856Z
UID:4556-1727028000-1727031600@loveandservicegroup.org
SUMMARY:Tradition 12 - Principles Before Personalities Panel
DESCRIPTION:
URL:https://loveandservicegroup.org/event/tradition-12-principles-before-personalities-panel
LOCATION:Hope Center Covenant Church\, 2275 Morello Ave\, Pleasant Hill\, CA\, 94523\, United States
CATEGORIES:Speaker
END:VEVENT
BEGIN:VEVENT
DTSTART;TZID=America/Los_Angeles:20240915T180000
DTEND;TZID=America/Los_Angeles:20240915T190000
DTSTAMP:20260424T152612
CREATED:20240808T192721Z
LAST-MODIFIED:20240810T181855Z
UID:4554-1726423200-1726426800@loveandservicegroup.org
SUMMARY:Bill J. from Paicines\, CA
DESCRIPTION:
URL:https://loveandservicegroup.org/event/shelley-m-from-chico-ca
LOCATION:Hope Center Covenant Church\, 2275 Morello Ave\, Pleasant Hill\, CA\, 94523\, United States
CATEGORIES:Speaker
END:VEVENT
BEGIN:VEVENT
DTSTART;TZID=America/Los_Angeles:20240908T180000
DTEND;TZID=America/Los_Angeles:20240908T190000
DTSTAMP:20260424T152612
CREATED:20240808T192627Z
LAST-MODIFIED:20240908T222721Z
UID:4552-1725818400-1725822000@loveandservicegroup.org
SUMMARY:Mary M. from San Ramon\, CA
DESCRIPTION:
URL:https://loveandservicegroup.org/event/bill-j-from-paicines-ca
LOCATION:Hope Center Covenant Church\, 2275 Morello Ave\, Pleasant Hill\, CA\, 94523\, United States
CATEGORIES:Speaker
END:VEVENT
BEGIN:VEVENT
DTSTART;TZID=America/Los_Angeles:20240908T163000
DTEND;TZID=America/Los_Angeles:20240908T173000
DTSTAMP:20260424T152612
CREATED:20230405T055319Z
LAST-MODIFIED:20230405T055319Z
UID:3595-1725813000-1725816600@loveandservicegroup.org
SUMMARY:Monthly Business Meeting
DESCRIPTION:The monthly business meeting. You can also join via Zoom\, check Slack or our Newsletter for details on joining virtually.
URL:https://loveandservicegroup.org/event/monthly-business-meeting-19
LOCATION:Hope Center Covenant Church\, 2275 Morello Ave\, Pleasant Hill\, CA\, 94523\, United States
CATEGORIES:Business Meeting,Speaker
END:VEVENT
BEGIN:VEVENT
DTSTART;TZID=America/Los_Angeles:20240901T180000
DTEND;TZID=America/Los_Angeles:20240901T190000
DTSTAMP:20260424T152612
CREATED:20240808T192255Z
LAST-MODIFIED:20240808T192327Z
UID:4550-1725213600-1725217200@loveandservicegroup.org
SUMMARY:Birthday Night
DESCRIPTION:
URL:https://loveandservicegroup.org/event/birthday-night
LOCATION:Hope Center Covenant Church\, 2275 Morello Ave\, Pleasant Hill\, CA\, 94523\, United States
CATEGORIES:Speaker
END:VEVENT
BEGIN:VEVENT
DTSTART;TZID=America/Los_Angeles:20240825T180000
DTEND;TZID=America/Los_Angeles:20240825T190000
DTSTAMP:20260424T152612
CREATED:20240425T162025Z
LAST-MODIFIED:20240425T162025Z
UID:4408-1724608800-1724612400@loveandservicegroup.org
SUMMARY:Eric L. from Saratoga\, CA
DESCRIPTION:
URL:https://loveandservicegroup.org/event/eric-l-from-saratoga-ca-2
LOCATION:CA
CATEGORIES:Speaker
END:VEVENT
BEGIN:VEVENT
DTSTART;TZID=America/Los_Angeles:20240818T180000
DTEND;TZID=America/Los_Angeles:20240818T190000
DTSTAMP:20260424T152612
CREATED:20240523T161655Z
LAST-MODIFIED:20240523T161655Z
UID:4448-1724004000-1724007600@loveandservicegroup.org
SUMMARY:Jessica J. from Sacramento\, CA
DESCRIPTION:
URL:https://loveandservicegroup.org/event/jessica-j-from-sacramento-ca
LOCATION:CA
CATEGORIES:Speaker
END:VEVENT
BEGIN:VEVENT
DTSTART;TZID=America/Los_Angeles:20240811T180000
DTEND;TZID=America/Los_Angeles:20240811T190000
DTSTAMP:20260424T152612
CREATED:20240723T195747Z
LAST-MODIFIED:20240723T200149Z
UID:4526-1723399200-1723402800@loveandservicegroup.org
SUMMARY:Gabe C. from Napa\, CA
DESCRIPTION:
URL:https://loveandservicegroup.org/event/gabe-c-from-napa-ca
LOCATION:Hope Center Covenant Church\, 2275 Morello Ave\, Pleasant Hill\, CA\, 94523\, United States
CATEGORIES:Speaker
END:VEVENT
BEGIN:VEVENT
DTSTART;TZID=America/Los_Angeles:20240811T163000
DTEND;TZID=America/Los_Angeles:20240811T173000
DTSTAMP:20260424T152612
CREATED:20230405T055319Z
LAST-MODIFIED:20230405T055319Z
UID:3594-1723393800-1723397400@loveandservicegroup.org
SUMMARY:Monthly Business Meeting
DESCRIPTION:The monthly business meeting. You can also join via Zoom\, check Slack or our Newsletter for details on joining virtually.
URL:https://loveandservicegroup.org/event/monthly-business-meeting-18
LOCATION:Hope Center Covenant Church\, 2275 Morello Ave\, Pleasant Hill\, CA\, 94523\, United States
CATEGORIES:Business Meeting,Speaker
END:VEVENT
BEGIN:VEVENT
DTSTART;TZID=America/Los_Angeles:20240804T180000
DTEND;TZID=America/Los_Angeles:20240804T190000
DTSTAMP:20260424T152612
CREATED:20240425T161929Z
LAST-MODIFIED:20240425T161929Z
UID:4406-1722794400-1722798000@loveandservicegroup.org
SUMMARY:Roger W. from Fort Knox\, KY
DESCRIPTION:
URL:https://loveandservicegroup.org/event/roger-w-from-fort-knox-ky
LOCATION:CA
CATEGORIES:Speaker
END:VEVENT
END:VCALENDAR