BEGIN:VCALENDAR
VERSION:2.0
PRODID:-//Love &amp; Service Group of AA - ECPv6.15.20//NONSGML v1.0//EN
CALSCALE:GREGORIAN
METHOD:PUBLISH
X-ORIGINAL-URL:https://loveandservicegroup.org
X-WR-CALDESC:Events for Love &amp; Service Group of AA
REFRESH-INTERVAL;VALUE=DURATION:PT1H
X-Robots-Tag:noindex
X-PUBLISHED-TTL:PT1H
BEGIN:VTIMEZONE
TZID:America/Los_Angeles
BEGIN:DAYLIGHT
TZOFFSETFROM:-0800
TZOFFSETTO:-0700
TZNAME:PDT
DTSTART:20230312T100000
END:DAYLIGHT
BEGIN:STANDARD
TZOFFSETFROM:-0700
TZOFFSETTO:-0800
TZNAME:PST
DTSTART:20231105T090000
END:STANDARD
BEGIN:DAYLIGHT
TZOFFSETFROM:-0800
TZOFFSETTO:-0700
TZNAME:PDT
DTSTART:20240310T100000
END:DAYLIGHT
BEGIN:STANDARD
TZOFFSETFROM:-0700
TZOFFSETTO:-0800
TZNAME:PST
DTSTART:20241103T090000
END:STANDARD
BEGIN:DAYLIGHT
TZOFFSETFROM:-0800
TZOFFSETTO:-0700
TZNAME:PDT
DTSTART:20250309T100000
END:DAYLIGHT
BEGIN:STANDARD
TZOFFSETFROM:-0700
TZOFFSETTO:-0800
TZNAME:PST
DTSTART:20251102T090000
END:STANDARD
BEGIN:DAYLIGHT
TZOFFSETFROM:-0800
TZOFFSETTO:-0700
TZNAME:PDT
DTSTART:20260308T100000
END:DAYLIGHT
BEGIN:STANDARD
TZOFFSETFROM:-0700
TZOFFSETTO:-0800
TZNAME:PST
DTSTART:20261101T090000
END:STANDARD
END:VTIMEZONE
BEGIN:VEVENT
DTSTART;TZID=America/Los_Angeles:20250504T180000
DTEND;TZID=America/Los_Angeles:20250504T190000
DTSTAMP:20260424T130603
CREATED:20250112T161121Z
LAST-MODIFIED:20250112T161121Z
UID:4799-1746381600-1746385200@loveandservicegroup.org
SUMMARY:Grant F. from Edmonds\, WA.
DESCRIPTION:
URL:https://loveandservicegroup.org/event/grant-f-from-edmonds-wa
CATEGORIES:Speaker
END:VEVENT
BEGIN:VEVENT
DTSTART;TZID=America/Los_Angeles:20250427T180000
DTEND;TZID=America/Los_Angeles:20250427T190000
DTSTAMP:20260424T130603
CREATED:20250112T160920Z
LAST-MODIFIED:20250112T160920Z
UID:4796-1745776800-1745780400@loveandservicegroup.org
SUMMARY:Birthday Chip Night
DESCRIPTION:
URL:https://loveandservicegroup.org/event/birthday-chip-night-2
CATEGORIES:Speaker
END:VEVENT
BEGIN:VEVENT
DTSTART;TZID=America/Los_Angeles:20250420T180000
DTEND;TZID=America/Los_Angeles:20250420T190000
DTSTAMP:20260424T130603
CREATED:20241201T191600Z
LAST-MODIFIED:20250112T160759Z
UID:4730-1745172000-1745175600@loveandservicegroup.org
SUMMARY:Vikki R. from Sacramento\, CA
DESCRIPTION:
URL:https://loveandservicegroup.org/event/vicki-r-from-sacramento-ca
CATEGORIES:Speaker
END:VEVENT
BEGIN:VEVENT
DTSTART;TZID=America/Los_Angeles:20250413T180000
DTEND;TZID=America/Los_Angeles:20250413T190000
DTSTAMP:20260424T130603
CREATED:20241201T191251Z
LAST-MODIFIED:20241201T191251Z
UID:4727-1744567200-1744570800@loveandservicegroup.org
SUMMARY:Matt M. from Norman\, OK
DESCRIPTION:
URL:https://loveandservicegroup.org/event/matt-m-from-norman-ok
CATEGORIES:Speaker
END:VEVENT
BEGIN:VEVENT
DTSTART;TZID=America/Los_Angeles:20250413T163000
DTEND;TZID=America/Los_Angeles:20250413T173000
DTSTAMP:20260424T130603
CREATED:20230405T055334Z
LAST-MODIFIED:20230405T055334Z
UID:3602-1744561800-1744565400@loveandservicegroup.org
SUMMARY:Monthly Business Meeting
DESCRIPTION:The monthly business meeting. You can also join via Zoom\, check Slack or our Newsletter for details on joining virtually.
URL:https://loveandservicegroup.org/event/monthly-business-meeting-26
LOCATION:Hope Center Covenant Church\, 2275 Morello Ave\, Pleasant Hill\, CA\, 94523\, United States
CATEGORIES:Business Meeting,Speaker
END:VEVENT
BEGIN:VEVENT
DTSTART;TZID=America/Los_Angeles:20250406T180000
DTEND;TZID=America/Los_Angeles:20250406T190000
DTSTAMP:20260424T130603
CREATED:20250110T054733Z
LAST-MODIFIED:20250110T054733Z
UID:4786-1743962400-1743966000@loveandservicegroup.org
SUMMARY:Jason J. Portland\, OR
DESCRIPTION:
URL:https://loveandservicegroup.org/event/jason-j-portland-or
CATEGORIES:Speaker
END:VEVENT
BEGIN:VEVENT
DTSTART;TZID=America/Los_Angeles:20250330T180000
DTEND;TZID=America/Los_Angeles:20250330T190000
DTSTAMP:20260424T130603
CREATED:20241201T191138Z
LAST-MODIFIED:20250112T160312Z
UID:4725-1743357600-1743361200@loveandservicegroup.org
SUMMARY:Omar B. from Belgium
DESCRIPTION:
URL:https://loveandservicegroup.org/event/larry-t-from-long-beach-ca
CATEGORIES:Speaker
END:VEVENT
BEGIN:VEVENT
DTSTART;TZID=America/Los_Angeles:20250323T180000
DTEND;TZID=America/Los_Angeles:20250323T190000
DTSTAMP:20260424T130603
CREATED:20241201T191016Z
LAST-MODIFIED:20241201T191016Z
UID:4723-1742752800-1742756400@loveandservicegroup.org
SUMMARY:Elena B. from Monterey\, CA
DESCRIPTION:
URL:https://loveandservicegroup.org/event/elena-b-from-monterey-ca
CATEGORIES:Speaker
END:VEVENT
BEGIN:VEVENT
DTSTART;TZID=America/Los_Angeles:20250316T180000
DTEND;TZID=America/Los_Angeles:20250316T190000
DTSTAMP:20260424T130603
CREATED:20241201T190853Z
LAST-MODIFIED:20241201T190853Z
UID:4721-1742148000-1742151600@loveandservicegroup.org
SUMMARY:Laura B. from Vancouver\, BC
DESCRIPTION:
URL:https://loveandservicegroup.org/event/laura-b-from-vancouver-bc
CATEGORIES:Speaker
END:VEVENT
BEGIN:VEVENT
DTSTART;TZID=America/Los_Angeles:20250309T180000
DTEND;TZID=America/Los_Angeles:20250309T190000
DTSTAMP:20260424T130603
CREATED:20241201T190727Z
LAST-MODIFIED:20241201T190727Z
UID:4719-1741543200-1741546800@loveandservicegroup.org
SUMMARY:Victor S. from Sacramento\, CA
DESCRIPTION:
URL:https://loveandservicegroup.org/event/victor-s-from-sacramento-ca
CATEGORIES:Speaker
END:VEVENT
BEGIN:VEVENT
DTSTART;TZID=America/Los_Angeles:20250309T163000
DTEND;TZID=America/Los_Angeles:20250309T173000
DTSTAMP:20260424T130603
CREATED:20230405T055334Z
LAST-MODIFIED:20230405T055334Z
UID:3601-1741537800-1741541400@loveandservicegroup.org
SUMMARY:Monthly Business Meeting
DESCRIPTION:The monthly business meeting. You can also join via Zoom\, check Slack or our Newsletter for details on joining virtually.
URL:https://loveandservicegroup.org/event/monthly-business-meeting-25
LOCATION:Hope Center Covenant Church\, 2275 Morello Ave\, Pleasant Hill\, CA\, 94523\, United States
CATEGORIES:Business Meeting,Speaker
END:VEVENT
BEGIN:VEVENT
DTSTART;TZID=America/Los_Angeles:20250302T180000
DTEND;TZID=America/Los_Angeles:20250302T190000
DTSTAMP:20260424T130603
CREATED:20241201T190116Z
LAST-MODIFIED:20241201T190306Z
UID:4714-1740938400-1740942000@loveandservicegroup.org
SUMMARY:Kevin H. from New York\, NY
DESCRIPTION:
URL:https://loveandservicegroup.org/event/natalie-r-from-rocklin-ca
CATEGORIES:Speaker
END:VEVENT
BEGIN:VEVENT
DTSTART;TZID=America/Los_Angeles:20250223T180000
DTEND;TZID=America/Los_Angeles:20250223T190000
DTSTAMP:20260424T130603
CREATED:20241201T201214Z
LAST-MODIFIED:20241201T201214Z
UID:4736-1740333600-1740337200@loveandservicegroup.org
SUMMARY:Hiro S. from Long Beach\, CA
DESCRIPTION:
URL:https://loveandservicegroup.org/event/hiro-s-from-long-beach-ca
CATEGORIES:Speaker
END:VEVENT
BEGIN:VEVENT
DTSTART;TZID=America/Los_Angeles:20250216T180000
DTEND;TZID=America/Los_Angeles:20250216T190000
DTSTAMP:20260424T130603
CREATED:20241201T201811Z
LAST-MODIFIED:20241201T201811Z
UID:4740-1739728800-1739732400@loveandservicegroup.org
SUMMARY:Unity Panel - Accessibilities
DESCRIPTION:
URL:https://loveandservicegroup.org/event/unity-panel-accessibilities
CATEGORIES:Speaker
END:VEVENT
BEGIN:VEVENT
DTSTART;TZID=America/Los_Angeles:20250209T180000
DTEND;TZID=America/Los_Angeles:20250209T190000
DTSTAMP:20260424T130603
CREATED:20250110T054007Z
LAST-MODIFIED:20250212T174538Z
UID:4784-1739124000-1739127600@loveandservicegroup.org
SUMMARY:Quarterly Birthday Panel - Nick S. and Vivienne
DESCRIPTION:
URL:https://loveandservicegroup.org/event/quarterly-birthday-panel-2
CATEGORIES:Speaker
END:VEVENT
BEGIN:VEVENT
DTSTART;TZID=America/Los_Angeles:20250209T163000
DTEND;TZID=America/Los_Angeles:20250209T173000
DTSTAMP:20260424T130603
CREATED:20230405T055334Z
LAST-MODIFIED:20230405T055334Z
UID:3600-1739118600-1739122200@loveandservicegroup.org
SUMMARY:Monthly Business Meeting
DESCRIPTION:The monthly business meeting. You can also join via Zoom\, check Slack or our Newsletter for details on joining virtually.
URL:https://loveandservicegroup.org/event/monthly-business-meeting-24
LOCATION:Hope Center Covenant Church\, 2275 Morello Ave\, Pleasant Hill\, CA\, 94523\, United States
CATEGORIES:Business Meeting,Speaker
END:VEVENT
BEGIN:VEVENT
DTSTART;TZID=America/Los_Angeles:20250202T180000
DTEND;TZID=America/Los_Angeles:20250202T190000
DTSTAMP:20260424T130603
CREATED:20241201T190501Z
LAST-MODIFIED:20241201T190501Z
UID:4717-1738519200-1738522800@loveandservicegroup.org
SUMMARY:Natalie R. from Rocklin\, CA
DESCRIPTION:
URL:https://loveandservicegroup.org/event/natalie-r-from-rocklin-ca-2
CATEGORIES:Speaker
END:VEVENT
BEGIN:VEVENT
DTSTART;TZID=America/Los_Angeles:20250126T180000
DTEND;TZID=America/Los_Angeles:20250126T190000
DTSTAMP:20260424T130603
CREATED:20241201T200607Z
LAST-MODIFIED:20241201T200945Z
UID:4734-1737914400-1737918000@loveandservicegroup.org
SUMMARY:Penny P. from Dublin CA
DESCRIPTION:
URL:https://loveandservicegroup.org/event/penny-p-from-dublin-ca
CATEGORIES:Speaker
END:VEVENT
BEGIN:VEVENT
DTSTART;TZID=America/Los_Angeles:20250119T180000
DTEND;TZID=America/Los_Angeles:20250119T190000
DTSTAMP:20260424T130603
CREATED:20241201T185514Z
LAST-MODIFIED:20241201T191400Z
UID:4712-1737309600-1737313200@loveandservicegroup.org
SUMMARY:Terri T. from Billings\, MT
DESCRIPTION:
URL:https://loveandservicegroup.org/event/terri-t-from-billings-montana
CATEGORIES:Speaker
END:VEVENT
BEGIN:VEVENT
DTSTART;TZID=America/Los_Angeles:20250112T180000
DTEND;TZID=America/Los_Angeles:20250112T190000
DTSTAMP:20260424T130603
CREATED:20241201T184917Z
LAST-MODIFIED:20250112T155722Z
UID:4710-1736704800-1736708400@loveandservicegroup.org
SUMMARY:Debbie D. from Concord\, CA
DESCRIPTION:
URL:https://loveandservicegroup.org/event/gwen-d-from-sacramento-ca
CATEGORIES:Speaker
END:VEVENT
BEGIN:VEVENT
DTSTART;TZID=America/Los_Angeles:20250112T163000
DTEND;TZID=America/Los_Angeles:20250112T173000
DTSTAMP:20260424T130603
CREATED:20230405T055334Z
LAST-MODIFIED:20230405T055334Z
UID:3599-1736699400-1736703000@loveandservicegroup.org
SUMMARY:Monthly Business Meeting
DESCRIPTION:The monthly business meeting. You can also join via Zoom\, check Slack or our Newsletter for details on joining virtually.
URL:https://loveandservicegroup.org/event/monthly-business-meeting-23
LOCATION:Hope Center Covenant Church\, 2275 Morello Ave\, Pleasant Hill\, CA\, 94523\, United States
CATEGORIES:Business Meeting,Speaker
END:VEVENT
BEGIN:VEVENT
DTSTART;TZID=America/Los_Angeles:20250109T180000
DTEND;TZID=America/Los_Angeles:20250109T190000
DTSTAMP:20260424T130603
CREATED:20250110T055233Z
LAST-MODIFIED:20250110T055233Z
UID:4790-1736445600-1736449200@loveandservicegroup.org
SUMMARY:Grant F. Edmonds\, WA
DESCRIPTION:
URL:https://loveandservicegroup.org/event/grant-f-edmonds-wa
CATEGORIES:Speaker
END:VEVENT
BEGIN:VEVENT
DTSTART;TZID=America/Los_Angeles:20250109T180000
DTEND;TZID=America/Los_Angeles:20250109T190000
DTSTAMP:20260424T130603
CREATED:20250110T055006Z
LAST-MODIFIED:20250110T055006Z
UID:4788-1736445600-1736449200@loveandservicegroup.org
SUMMARY:Birthday Chip Night
DESCRIPTION:
URL:https://loveandservicegroup.org/event/birthday-chip-night
CATEGORIES:Speaker
END:VEVENT
BEGIN:VEVENT
DTSTART;TZID=America/Los_Angeles:20250105T180000
DTEND;TZID=America/Los_Angeles:20250105T190000
DTSTAMP:20260424T130603
CREATED:20241108T022521Z
LAST-MODIFIED:20241108T022646Z
UID:4684-1736100000-1736103600@loveandservicegroup.org
SUMMARY:June G. from Oxnard\, CA
DESCRIPTION:
URL:https://loveandservicegroup.org/event/june-g-from-oxnard-ca
LOCATION:Hope Center Covenant Church\, 2275 Morello Ave\, Pleasant Hill\, CA\, 94523\, United States
CATEGORIES:Speaker
END:VEVENT
BEGIN:VEVENT
DTSTART;TZID=America/Los_Angeles:20241222T180000
DTEND;TZID=America/Los_Angeles:20241222T190000
DTSTAMP:20260424T130603
CREATED:20240905T012244Z
LAST-MODIFIED:20240905T012244Z
UID:4597-1734890400-1734894000@loveandservicegroup.org
SUMMARY:Bob D. from Las Vegas\, Nevada
DESCRIPTION:
URL:https://loveandservicegroup.org/event/bob-d-from-las-vegas-nevada
LOCATION:Hope Center Covenant Church\, 2275 Morello Ave\, Pleasant Hill\, CA\, 94523\, United States
CATEGORIES:Speaker
END:VEVENT
BEGIN:VEVENT
DTSTART;TZID=America/Los_Angeles:20241215T180000
DTEND;TZID=America/Los_Angeles:20241215T190000
DTSTAMP:20260424T130603
CREATED:20241108T022230Z
LAST-MODIFIED:20241108T023112Z
UID:4682-1734285600-1734289200@loveandservicegroup.org
SUMMARY:Alex G. from Martinez\, CA
DESCRIPTION:
URL:https://loveandservicegroup.org/event/alex-g-from-martinez-ca
LOCATION:Hope Center Covenant Church\, 2275 Morello Ave\, Pleasant Hill\, CA\, 94523\, United States
CATEGORIES:Speaker
END:VEVENT
BEGIN:VEVENT
DTSTART;TZID=America/Los_Angeles:20241208T180000
DTEND;TZID=America/Los_Angeles:20241208T190000
DTSTAMP:20260424T130603
CREATED:20240926T024614Z
LAST-MODIFIED:20240926T024614Z
UID:4639-1733680800-1733684400@loveandservicegroup.org
SUMMARY:Alex W. from Los Angeles\, CA
DESCRIPTION:
URL:https://loveandservicegroup.org/event/alex-w-from-los-angeles-ca
LOCATION:Hope Center Covenant Church\, 2275 Morello Ave\, Pleasant Hill\, CA\, 94523\, United States
CATEGORIES:Speaker
END:VEVENT
BEGIN:VEVENT
DTSTART;TZID=America/Los_Angeles:20241208T163000
DTEND;TZID=America/Los_Angeles:20241208T173000
DTSTAMP:20260424T130603
CREATED:20230405T055333Z
LAST-MODIFIED:20230405T055333Z
UID:3598-1733675400-1733679000@loveandservicegroup.org
SUMMARY:Monthly Business Meeting
DESCRIPTION:The monthly business meeting. You can also join via Zoom\, check Slack or our Newsletter for details on joining virtually.
URL:https://loveandservicegroup.org/event/monthly-business-meeting-22
LOCATION:Hope Center Covenant Church\, 2275 Morello Ave\, Pleasant Hill\, CA\, 94523\, United States
CATEGORIES:Business Meeting,Speaker
END:VEVENT
BEGIN:VEVENT
DTSTART;TZID=America/Los_Angeles:20241201T180000
DTEND;TZID=America/Los_Angeles:20241201T190000
DTSTAMP:20260424T130603
CREATED:20241108T021714Z
LAST-MODIFIED:20241108T022059Z
UID:4680-1733076000-1733079600@loveandservicegroup.org
SUMMARY:Unity Panel: On The Rocks Group from Fairfield\, CA
DESCRIPTION:
URL:https://loveandservicegroup.org/event/unity-panel-on-the-rocks-group-from-fairfield-ca
LOCATION:Hope Center Covenant Church\, 2275 Morello Ave\, Pleasant Hill\, CA\, 94523\, United States
CATEGORIES:Speaker
END:VEVENT
BEGIN:VEVENT
DTSTART;TZID=America/Los_Angeles:20241124T180000
DTEND;TZID=America/Los_Angeles:20241124T190000
DTSTAMP:20260424T130603
CREATED:20240926T024442Z
LAST-MODIFIED:20240926T024442Z
UID:4637-1732471200-1732474800@loveandservicegroup.org
SUMMARY:Olis S. from Oakland\, CA
DESCRIPTION:
URL:https://loveandservicegroup.org/event/olis-s-from-oakland-ca
LOCATION:Hope Center Covenant Church\, 2275 Morello Ave\, Pleasant Hill\, CA\, 94523\, United States
CATEGORIES:Speaker
END:VEVENT
END:VCALENDAR