BEGIN:VCALENDAR
VERSION:2.0
PRODID:-//Love &amp; Service Group of AA - ECPv6.15.20//NONSGML v1.0//EN
CALSCALE:GREGORIAN
METHOD:PUBLISH
X-ORIGINAL-URL:https://loveandservicegroup.org
X-WR-CALDESC:Events for Love &amp; Service Group of AA
REFRESH-INTERVAL;VALUE=DURATION:PT1H
X-Robots-Tag:noindex
X-PUBLISHED-TTL:PT1H
BEGIN:VTIMEZONE
TZID:America/Los_Angeles
BEGIN:DAYLIGHT
TZOFFSETFROM:-0800
TZOFFSETTO:-0700
TZNAME:PDT
DTSTART:20210314T100000
END:DAYLIGHT
BEGIN:STANDARD
TZOFFSETFROM:-0700
TZOFFSETTO:-0800
TZNAME:PST
DTSTART:20211107T090000
END:STANDARD
BEGIN:DAYLIGHT
TZOFFSETFROM:-0800
TZOFFSETTO:-0700
TZNAME:PDT
DTSTART:20220313T100000
END:DAYLIGHT
BEGIN:STANDARD
TZOFFSETFROM:-0700
TZOFFSETTO:-0800
TZNAME:PST
DTSTART:20221106T090000
END:STANDARD
BEGIN:DAYLIGHT
TZOFFSETFROM:-0800
TZOFFSETTO:-0700
TZNAME:PDT
DTSTART:20230312T100000
END:DAYLIGHT
BEGIN:STANDARD
TZOFFSETFROM:-0700
TZOFFSETTO:-0800
TZNAME:PST
DTSTART:20231105T090000
END:STANDARD
END:VTIMEZONE
BEGIN:VEVENT
DTSTART;TZID=America/Los_Angeles:20220807T180000
DTEND;TZID=America/Los_Angeles:20220807T190000
DTSTAMP:20260425T140915
CREATED:20220808T012359Z
LAST-MODIFIED:20220808T012459Z
UID:3281-1659895200-1659898800@loveandservicegroup.org
SUMMARY:Cia F from Los Angeles\, CA
DESCRIPTION:
URL:https://loveandservicegroup.org/event/cia-f
LOCATION:Hope Center Covenant Church\, 2275 Morello Ave\, Pleasant Hill\, CA\, 94523\, United States
CATEGORIES:Speaker
END:VEVENT
BEGIN:VEVENT
DTSTART;TZID=America/Los_Angeles:20220731T180000
DTEND;TZID=America/Los_Angeles:20220731T190000
DTSTAMP:20260425T140915
CREATED:20220605T031005Z
LAST-MODIFIED:20220605T031318Z
UID:3090-1659290400-1659294000@loveandservicegroup.org
SUMMARY:NANCY MAC from P- HILL
DESCRIPTION:
URL:https://loveandservicegroup.org/event/nancy-mac-from-p-hill
LOCATION:Hope Center Covenant Church\, 2275 Morello Ave\, Pleasant Hill\, CA\, 94523\, United States
CATEGORIES:Speaker
END:VEVENT
BEGIN:VEVENT
DTSTART;TZID=America/Los_Angeles:20220724T180000
DTEND;TZID=America/Los_Angeles:20220724T190000
DTSTAMP:20260425T140915
CREATED:20220605T030258Z
LAST-MODIFIED:20220605T030258Z
UID:3082-1658685600-1658689200@loveandservicegroup.org
SUMMARY:Shah S. from Oakland
DESCRIPTION:
URL:https://loveandservicegroup.org/event/shah-s-from-oakland
LOCATION:Hope Center Covenant Church\, 2275 Morello Ave\, Pleasant Hill\, CA\, 94523\, United States
CATEGORIES:Speaker
END:VEVENT
BEGIN:VEVENT
DTSTART;TZID=America/Los_Angeles:20220717T180000
DTEND;TZID=America/Los_Angeles:20220717T190000
DTSTAMP:20260425T140915
CREATED:20220605T030140Z
LAST-MODIFIED:20220605T030140Z
UID:3080-1658080800-1658084400@loveandservicegroup.org
SUMMARY:Vikki R. from Yuba City\, CA
DESCRIPTION:
URL:https://loveandservicegroup.org/event/vikki-r-from-yuba-city-ca
LOCATION:Hope Center Covenant Church\, 2275 Morello Ave\, Pleasant Hill\, CA\, 94523\, United States
CATEGORIES:Speaker
END:VEVENT
BEGIN:VEVENT
DTSTART;TZID=America/Los_Angeles:20220710T180000
DTEND;TZID=America/Los_Angeles:20220710T190000
DTSTAMP:20260425T140915
CREATED:20220212T221841Z
LAST-MODIFIED:20220711T011414Z
UID:2645-1657476000-1657479600@loveandservicegroup.org
SUMMARY:Tina A. from Hollister\, CA
DESCRIPTION:
URL:https://loveandservicegroup.org/event/georgia-b-from-montrose-ca
LOCATION:Hope Center Covenant Church\, 2275 Morello Ave\, Pleasant Hill\, CA\, 94523\, United States
CATEGORIES:Speaker
END:VEVENT
BEGIN:VEVENT
DTSTART;TZID=America/Los_Angeles:20220703T180000
DTEND;TZID=America/Los_Angeles:20220703T190000
DTSTAMP:20260425T140915
CREATED:20220605T031229Z
LAST-MODIFIED:20220605T031229Z
UID:3092-1656871200-1656874800@loveandservicegroup.org
SUMMARY:Home Group Birthday Night
DESCRIPTION:
URL:https://loveandservicegroup.org/event/home-group-birthday-night-2
LOCATION:Hope Center Covenant Church\, 2275 Morello Ave\, Pleasant Hill\, CA\, 94523\, United States
CATEGORIES:Speaker
END:VEVENT
BEGIN:VEVENT
DTSTART;TZID=America/Los_Angeles:20220626T180000
DTEND;TZID=America/Los_Angeles:20220626T190000
DTSTAMP:20260425T140915
CREATED:20220605T204152Z
LAST-MODIFIED:20220605T204152Z
UID:3094-1656266400-1656270000@loveandservicegroup.org
SUMMARY:Jackie B. from San Francisco
DESCRIPTION:
URL:https://loveandservicegroup.org/event/jackie-b-from-san-francisco
LOCATION:Hope Center Covenant Church\, 2275 Morello Ave\, Pleasant Hill\, CA\, 94523\, United States
CATEGORIES:Speaker
END:VEVENT
BEGIN:VEVENT
DTSTART;TZID=America/Los_Angeles:20220619T180000
DTEND;TZID=America/Los_Angeles:20220619T190000
DTSTAMP:20260425T140915
CREATED:20220424T230204Z
LAST-MODIFIED:20220605T025909Z
UID:2937-1655661600-1655665200@loveandservicegroup.org
SUMMARY:Hiro S. from Long Beach\, CA
DESCRIPTION:
URL:https://loveandservicegroup.org/event/karl-m-from-covina-ca-2
LOCATION:Hope Center Covenant Church\, 2275 Morello Ave\, Pleasant Hill\, CA\, 94523\, United States
CATEGORIES:Speaker
END:VEVENT
BEGIN:VEVENT
DTSTART;TZID=America/Los_Angeles:20220612T180000
DTEND;TZID=America/Los_Angeles:20220612T190000
DTSTAMP:20260425T140915
CREATED:20220319T171802Z
LAST-MODIFIED:20220319T171802Z
UID:2812-1655056800-1655060400@loveandservicegroup.org
SUMMARY:Karl M. from Covina\, CA
DESCRIPTION:
URL:https://loveandservicegroup.org/event/karl-m-from-covina-ca
CATEGORIES:Speaker
END:VEVENT
BEGIN:VEVENT
DTSTART;TZID=America/Los_Angeles:20220605T180000
DTEND;TZID=America/Los_Angeles:20220605T190000
DTSTAMP:20260425T140915
CREATED:20220424T230033Z
LAST-MODIFIED:20220424T230033Z
UID:2934-1654452000-1654455600@loveandservicegroup.org
SUMMARY:Leslie K. from Modesto\, CA
DESCRIPTION:
URL:https://loveandservicegroup.org/event/leslie-k-from-modesto-ca
LOCATION:Hope Center Covenant Church\, 2275 Morello Ave\, Pleasant Hill\, CA\, 94523\, United States
CATEGORIES:Speaker
END:VEVENT
BEGIN:VEVENT
DTSTART;TZID=America/Los_Angeles:20220529T180000
DTEND;TZID=America/Los_Angeles:20220529T190000
DTSTAMP:20260425T140915
CREATED:20220424T225937Z
LAST-MODIFIED:20220424T225937Z
UID:2932-1653847200-1653850800@loveandservicegroup.org
SUMMARY:EBYPAA Panel
DESCRIPTION:East Bay Young People in AA
URL:https://loveandservicegroup.org/event/ebypaa-panel
LOCATION:Hope Center Covenant Church\, 2275 Morello Ave\, Pleasant Hill\, CA\, 94523\, United States
CATEGORIES:Speaker,Special Event
END:VEVENT
BEGIN:VEVENT
DTSTART;TZID=America/Los_Angeles:20220529T080000
DTEND;TZID=America/Los_Angeles:20220529T170000
DTSTAMP:20260425T140915
CREATED:20220319T171631Z
LAST-MODIFIED:20220319T171706Z
UID:2810-1653811200-1653843600@loveandservicegroup.org
SUMMARY:EBYPAA!
DESCRIPTION:East Bay Young People in AA. \nhttps://www.ebypaa.org/
URL:https://loveandservicegroup.org/event/ebypaa
LOCATION:Hope Center Covenant Church\, 2275 Morello Ave\, Pleasant Hill\, CA\, 94523\, United States
CATEGORIES:Speaker,Special Event
END:VEVENT
BEGIN:VEVENT
DTSTART;TZID=America/Los_Angeles:20220522T180000
DTEND;TZID=America/Los_Angeles:20220522T190000
DTSTAMP:20260425T140915
CREATED:20220424T225631Z
LAST-MODIFIED:20220424T225631Z
UID:2930-1653242400-1653246000@loveandservicegroup.org
SUMMARY:George P. from Castro Valley\, CA
DESCRIPTION:
URL:https://loveandservicegroup.org/event/george-p-from-castro-valley-ca
LOCATION:Hope Center Covenant Church\, 2275 Morello Ave\, Pleasant Hill\, CA\, 94523\, United States
CATEGORIES:Speaker
END:VEVENT
BEGIN:VEVENT
DTSTART;TZID=America/Los_Angeles:20220515T180000
DTEND;TZID=America/Los_Angeles:20220515T190000
DTSTAMP:20260425T140915
CREATED:20220319T170746Z
LAST-MODIFIED:20251209T034327Z
UID:2808-1652637600-1652641200@loveandservicegroup.org
SUMMARY:Unity Panel: District 20 (Spanish)
DESCRIPTION:In this unique meeting\, our local Spanish General Service District will be sharing with us. Spanish Translation will be provided!
URL:https://loveandservicegroup.org/event/unity-panel-district-20-spanish
LOCATION:Hope Center Covenant Church\, 2275 Morello Ave\, Pleasant Hill\, CA\, 94523\, United States
CATEGORIES:Speaker,Special Event
END:VEVENT
BEGIN:VEVENT
DTSTART;TZID=America/Los_Angeles:20220508T180000
DTEND;TZID=America/Los_Angeles:20220508T190000
DTSTAMP:20260425T140915
CREATED:20220425T002327Z
LAST-MODIFIED:20220425T002327Z
UID:2939-1652032800-1652036400@loveandservicegroup.org
SUMMARY:Marissa M. from Concord\, CA
DESCRIPTION:
URL:https://loveandservicegroup.org/event/marissa-m-from-concord-ca
LOCATION:Hope Center Covenant Church\, 2275 Morello Ave\, Pleasant Hill\, CA\, 94523\, United States
CATEGORIES:Speaker
END:VEVENT
BEGIN:VEVENT
DTSTART;TZID=America/Los_Angeles:20220501T180000
DTEND;TZID=America/Los_Angeles:20220501T190000
DTSTAMP:20260425T140915
CREATED:20220424T225451Z
LAST-MODIFIED:20220424T225451Z
UID:2928-1651428000-1651431600@loveandservicegroup.org
SUMMARY:Annetta D. from Martinez\, CA
DESCRIPTION:
URL:https://loveandservicegroup.org/event/annetta-d-from-martinez-ca
LOCATION:Hope Center Covenant Church\, 2275 Morello Ave\, Pleasant Hill\, CA\, 94523\, United States
CATEGORIES:Speaker
END:VEVENT
BEGIN:VEVENT
DTSTART;TZID=America/Los_Angeles:20220417T180000
DTEND;TZID=America/Los_Angeles:20220417T190000
DTSTAMP:20260425T140915
CREATED:20220319T170522Z
LAST-MODIFIED:20220319T170522Z
UID:2806-1650218400-1650222000@loveandservicegroup.org
SUMMARY:Oliver G. from Pleasant Hill\, CA
DESCRIPTION:
URL:https://loveandservicegroup.org/event/oliver-g-from-pleasant-hill-ca
LOCATION:Hope Center Covenant Church\, 2275 Morello Ave\, Pleasant Hill\, CA\, 94523\, United States
CATEGORIES:Speaker
END:VEVENT
BEGIN:VEVENT
DTSTART;TZID=America/Los_Angeles:20220410T180000
DTEND;TZID=America/Los_Angeles:20220410T190000
DTSTAMP:20260425T140915
CREATED:20220319T170410Z
LAST-MODIFIED:20220319T170410Z
UID:2804-1649613600-1649617200@loveandservicegroup.org
SUMMARY:Allison H. from Livermore\, CA
DESCRIPTION:
URL:https://loveandservicegroup.org/event/allison-h-from-livermore-ca
LOCATION:Hope Center Covenant Church\, 2275 Morello Ave\, Pleasant Hill\, CA\, 94523\, United States
CATEGORIES:Speaker
END:VEVENT
BEGIN:VEVENT
DTSTART;TZID=America/Los_Angeles:20220403T180000
DTEND;TZID=America/Los_Angeles:20220403T190000
DTSTAMP:20260425T140915
CREATED:20220111T034832Z
LAST-MODIFIED:20220111T034832Z
UID:2371-1649008800-1649012400@loveandservicegroup.org
SUMMARY:Don L. from Bellingham\, WA
DESCRIPTION:
URL:https://loveandservicegroup.org/event/don-l-from-bellingham-wa
LOCATION:Hope Center Covenant Church\, 2275 Morello Ave\, Pleasant Hill\, CA\, 94523\, United States
CATEGORIES:Speaker
END:VEVENT
BEGIN:VEVENT
DTSTART;TZID=America/Los_Angeles:20220327T180000
DTEND;TZID=America/Los_Angeles:20220327T190000
DTSTAMP:20260425T140915
CREATED:20220111T035221Z
LAST-MODIFIED:20220111T035221Z
UID:2373-1648404000-1648407600@loveandservicegroup.org
SUMMARY:Homegroup Birthday Night
DESCRIPTION:
URL:https://loveandservicegroup.org/event/homegroup-birthday-night-4
LOCATION:Hope Center Covenant Church\, 2275 Morello Ave\, Pleasant Hill\, CA\, 94523\, United States
CATEGORIES:Speaker
END:VEVENT
BEGIN:VEVENT
DTSTART;TZID=America/Los_Angeles:20220320T180000
DTEND;TZID=America/Los_Angeles:20220320T190000
DTSTAMP:20260425T140915
CREATED:20220111T034736Z
LAST-MODIFIED:20220111T034736Z
UID:2369-1647799200-1647802800@loveandservicegroup.org
SUMMARY:Paul W. from Sunset Beach\, CA
DESCRIPTION:
URL:https://loveandservicegroup.org/event/paul-w-from-sunset-beach-ca-2
LOCATION:Hope Center Covenant Church\, 2275 Morello Ave\, Pleasant Hill\, CA\, 94523\, United States
CATEGORIES:Speaker
END:VEVENT
BEGIN:VEVENT
DTSTART;TZID=America/Los_Angeles:20220313T180000
DTEND;TZID=America/Los_Angeles:20220313T190000
DTSTAMP:20260425T140915
CREATED:20211220T002230Z
LAST-MODIFIED:20220212T221625Z
UID:2283-1647194400-1647198000@loveandservicegroup.org
SUMMARY:"Baseball" Dave W. from Concord\, CA
DESCRIPTION:
URL:https://loveandservicegroup.org/event/dave-w-from-concord-ca
LOCATION:Hope Center Covenant Church\, 2275 Morello Ave\, Pleasant Hill\, CA\, 94523\, United States
CATEGORIES:Speaker
END:VEVENT
BEGIN:VEVENT
DTSTART;TZID=America/Los_Angeles:20220306T180000
DTEND;TZID=America/Los_Angeles:20220306T190000
DTSTAMP:20260425T140915
CREATED:20211220T003832Z
LAST-MODIFIED:20211220T003832Z
UID:2289-1646589600-1646593200@loveandservicegroup.org
SUMMARY:Megan B. from Martinez\, CA
DESCRIPTION:
URL:https://loveandservicegroup.org/event/megan-b-from-martinez-ca
LOCATION:Hope Center Covenant Church\, 2275 Morello Ave\, Pleasant Hill\, CA\, 94523\, United States
CATEGORIES:Speaker
END:VEVENT
BEGIN:VEVENT
DTSTART;TZID=America/Los_Angeles:20220227T180000
DTEND;TZID=America/Los_Angeles:20220227T190000
DTSTAMP:20260425T140915
CREATED:20211220T002954Z
LAST-MODIFIED:20220111T035418Z
UID:2287-1645984800-1645988400@loveandservicegroup.org
SUMMARY:Unity Panel: The Get Sober Win Prizes Group
DESCRIPTION:Check out https://www.getsoberwinprizes.com/ \nWe will hear from Darla A.\, Mickey G.\, Marissa M.\, and Eric M.
URL:https://loveandservicegroup.org/event/unity-panel-the-get-sober-win-prizes-group
CATEGORIES:Speaker,Special Event
END:VEVENT
BEGIN:VEVENT
DTSTART;TZID=America/Los_Angeles:20220220T180000
DTEND;TZID=America/Los_Angeles:20220220T190000
DTSTAMP:20260425T140915
CREATED:20220111T034611Z
LAST-MODIFIED:20220111T034611Z
UID:2367-1645380000-1645383600@loveandservicegroup.org
SUMMARY:Bridget B. from Los Angeles\, CA
DESCRIPTION:
URL:https://loveandservicegroup.org/event/bridget-b-from-los-angeles-ca
LOCATION:Hope Center Covenant Church\, 2275 Morello Ave\, Pleasant Hill\, CA\, 94523\, United States
CATEGORIES:Speaker
END:VEVENT
BEGIN:VEVENT
DTSTART;TZID=America/Los_Angeles:20220213T180000
DTEND;TZID=America/Los_Angeles:20220213T190000
DTSTAMP:20260425T140915
CREATED:20220111T034505Z
LAST-MODIFIED:20220111T034505Z
UID:2365-1644775200-1644778800@loveandservicegroup.org
SUMMARY:Jeff J. from Concord\, CA
DESCRIPTION:
URL:https://loveandservicegroup.org/event/jeff-j-from-concord-ca
LOCATION:Hope Center Covenant Church\, 2275 Morello Ave\, Pleasant Hill\, CA\, 94523\, United States
CATEGORIES:Speaker
END:VEVENT
BEGIN:VEVENT
DTSTART;TZID=America/Los_Angeles:20220206T180000
DTEND;TZID=America/Los_Angeles:20220206T190000
DTSTAMP:20260425T140915
CREATED:20220111T034354Z
LAST-MODIFIED:20220111T034354Z
UID:2363-1644170400-1644174000@loveandservicegroup.org
SUMMARY:Deanna C. from Sacramento\, CA
DESCRIPTION:
URL:https://loveandservicegroup.org/event/deanna-c-from-sacramento-ca
LOCATION:Hope Center Covenant Church\, 2275 Morello Ave\, Pleasant Hill\, CA\, 94523\, United States
CATEGORIES:Speaker
END:VEVENT
BEGIN:VEVENT
DTSTART;TZID=America/Los_Angeles:20220130T180000
DTEND;TZID=America/Los_Angeles:20220130T190000
DTSTAMP:20260425T140915
CREATED:20211220T002646Z
LAST-MODIFIED:20211220T002646Z
UID:2285-1643565600-1643569200@loveandservicegroup.org
SUMMARY:11 Step Panel
DESCRIPTION:
URL:https://loveandservicegroup.org/event/11-step-panel
CATEGORIES:Speaker,Special Event
END:VEVENT
BEGIN:VEVENT
DTSTART;TZID=America/Los_Angeles:20220123T180000
DTEND;TZID=America/Los_Angeles:20220123T190000
DTSTAMP:20260425T140915
CREATED:20220124T022928Z
LAST-MODIFIED:20220124T022928Z
UID:2416-1642960800-1642964400@loveandservicegroup.org
SUMMARY:Rachel T from Martinez\, CA
DESCRIPTION:
URL:https://loveandservicegroup.org/event/rachel-t-from-martinez-ca
LOCATION:Hope Center Covenant Church\, 2275 Morello Ave\, Pleasant Hill\, CA\, 94523\, United States
CATEGORIES:Speaker
END:VEVENT
BEGIN:VEVENT
DTSTART;TZID=America/Los_Angeles:20220116T180000
DTEND;TZID=America/Los_Angeles:20220116T190000
DTSTAMP:20260425T140915
CREATED:20220111T033908Z
LAST-MODIFIED:20220111T033908Z
UID:2357-1642356000-1642359600@loveandservicegroup.org
SUMMARY:Dominic L. from Antioch\, CA
DESCRIPTION:He is sober.
URL:https://loveandservicegroup.org/event/dominic-l-from-antioch-ca
LOCATION:Hope Center Covenant Church\, 2275 Morello Ave\, Pleasant Hill\, CA\, 94523\, United States
CATEGORIES:Speaker
END:VEVENT
END:VCALENDAR