BEGIN:VCALENDAR
VERSION:2.0
PRODID:-//Love &amp; Service Group of AA - ECPv6.15.20//NONSGML v1.0//EN
CALSCALE:GREGORIAN
METHOD:PUBLISH
X-ORIGINAL-URL:https://loveandservicegroup.org
X-WR-CALDESC:Events for Love &amp; Service Group of AA
REFRESH-INTERVAL;VALUE=DURATION:PT1H
X-Robots-Tag:noindex
X-PUBLISHED-TTL:PT1H
BEGIN:VTIMEZONE
TZID:America/Los_Angeles
BEGIN:DAYLIGHT
TZOFFSETFROM:-0800
TZOFFSETTO:-0700
TZNAME:PDT
DTSTART:20210314T100000
END:DAYLIGHT
BEGIN:STANDARD
TZOFFSETFROM:-0700
TZOFFSETTO:-0800
TZNAME:PST
DTSTART:20211107T090000
END:STANDARD
BEGIN:DAYLIGHT
TZOFFSETFROM:-0800
TZOFFSETTO:-0700
TZNAME:PDT
DTSTART:20220313T100000
END:DAYLIGHT
BEGIN:STANDARD
TZOFFSETFROM:-0700
TZOFFSETTO:-0800
TZNAME:PST
DTSTART:20221106T090000
END:STANDARD
BEGIN:DAYLIGHT
TZOFFSETFROM:-0800
TZOFFSETTO:-0700
TZNAME:PDT
DTSTART:20230312T100000
END:DAYLIGHT
BEGIN:STANDARD
TZOFFSETFROM:-0700
TZOFFSETTO:-0800
TZNAME:PST
DTSTART:20231105T090000
END:STANDARD
BEGIN:DAYLIGHT
TZOFFSETFROM:-0800
TZOFFSETTO:-0700
TZNAME:PDT
DTSTART:20240310T100000
END:DAYLIGHT
BEGIN:STANDARD
TZOFFSETFROM:-0700
TZOFFSETTO:-0800
TZNAME:PST
DTSTART:20241103T090000
END:STANDARD
END:VTIMEZONE
BEGIN:VEVENT
DTSTART;TZID=America/Los_Angeles:20230312T180000
DTEND;TZID=America/Los_Angeles:20230312T190000
DTSTAMP:20260425T100429
CREATED:20230130T003433Z
LAST-MODIFIED:20230130T003433Z
UID:3475-1678644000-1678647600@loveandservicegroup.org
SUMMARY:Patty M. - Martinez\, CA
DESCRIPTION:
URL:https://loveandservicegroup.org/event/patty-m-martinez-ca
LOCATION:CA
CATEGORIES:Speaker
END:VEVENT
BEGIN:VEVENT
DTSTART;TZID=America/Los_Angeles:20230305T180000
DTEND;TZID=America/Los_Angeles:20230305T190000
DTSTAMP:20260425T100429
CREATED:20230130T003349Z
LAST-MODIFIED:20230130T003349Z
UID:3473-1678039200-1678042800@loveandservicegroup.org
SUMMARY:Mike S. - Martinez\, CA
DESCRIPTION:
URL:https://loveandservicegroup.org/event/mike-s-martinez-ca
LOCATION:CA
CATEGORIES:Speaker
END:VEVENT
BEGIN:VEVENT
DTSTART;TZID=America/Los_Angeles:20230226T180000
DTEND;TZID=America/Los_Angeles:20230226T190000
DTSTAMP:20260425T100429
CREATED:20230130T003244Z
LAST-MODIFIED:20230130T003244Z
UID:3470-1677434400-1677438000@loveandservicegroup.org
SUMMARY:Unity Panel - Friday Night Young People
DESCRIPTION:
URL:https://loveandservicegroup.org/event/unity-panel-friday-night-young-people
LOCATION:CA
CATEGORIES:Speaker
END:VEVENT
BEGIN:VEVENT
DTSTART;TZID=America/Los_Angeles:20230219T180000
DTEND;TZID=America/Los_Angeles:20230219T190000
DTSTAMP:20260425T100429
CREATED:20230130T003119Z
LAST-MODIFIED:20230130T003119Z
UID:3468-1676829600-1676833200@loveandservicegroup.org
SUMMARY:Vera F. - Lanesborough\, MA
DESCRIPTION:
URL:https://loveandservicegroup.org/event/vera-f-lanesborough-ma
LOCATION:CA
CATEGORIES:Speaker
END:VEVENT
BEGIN:VEVENT
DTSTART;TZID=America/Los_Angeles:20230212T180000
DTEND;TZID=America/Los_Angeles:20230212T190000
DTSTAMP:20260425T100429
CREATED:20230130T003027Z
LAST-MODIFIED:20230130T003027Z
UID:3466-1676224800-1676228400@loveandservicegroup.org
SUMMARY:Georgia B - Los Angeles\, CA
DESCRIPTION:
URL:https://loveandservicegroup.org/event/georgia-b-los-angeles-ca
LOCATION:CA
CATEGORIES:Speaker
END:VEVENT
BEGIN:VEVENT
DTSTART;TZID=America/Los_Angeles:20230205T180000
DTEND;TZID=America/Los_Angeles:20230205T190000
DTSTAMP:20260425T100429
CREATED:20221230T011412Z
LAST-MODIFIED:20221230T011412Z
UID:3453-1675620000-1675623600@loveandservicegroup.org
SUMMARY:Kira E. - Pleasanton\, CA
DESCRIPTION:
URL:https://loveandservicegroup.org/event/kira-e-pleasanton-ca
LOCATION:CA
CATEGORIES:Speaker
END:VEVENT
BEGIN:VEVENT
DTSTART;TZID=America/Los_Angeles:20230129T180000
DTEND;TZID=America/Los_Angeles:20230129T190000
DTSTAMP:20260425T100429
CREATED:20221230T011127Z
LAST-MODIFIED:20221230T011127Z
UID:3451-1675015200-1675018800@loveandservicegroup.org
SUMMARY:Jennifer B. - Santa Rosa\, CA
DESCRIPTION:
URL:https://loveandservicegroup.org/event/jennifer-b-santa-rosa-ca
LOCATION:CA
CATEGORIES:Speaker
END:VEVENT
BEGIN:VEVENT
DTSTART;TZID=America/Los_Angeles:20230122T180000
DTEND;TZID=America/Los_Angeles:20230122T190000
DTSTAMP:20260425T100429
CREATED:20221230T011024Z
LAST-MODIFIED:20221230T011024Z
UID:3449-1674410400-1674414000@loveandservicegroup.org
SUMMARY:Panel - Acceptance
DESCRIPTION:
URL:https://loveandservicegroup.org/event/panel-acceptance
LOCATION:CA
CATEGORIES:Speaker
END:VEVENT
BEGIN:VEVENT
DTSTART;TZID=America/Los_Angeles:20230115T180000
DTEND;TZID=America/Los_Angeles:20230115T190000
DTSTAMP:20260425T100429
CREATED:20221230T010942Z
LAST-MODIFIED:20221230T010942Z
UID:3447-1673805600-1673809200@loveandservicegroup.org
SUMMARY:Miguel H. - San Jose\, CA
DESCRIPTION:
URL:https://loveandservicegroup.org/event/miguel-h-san-jose-ca
LOCATION:CA
CATEGORIES:Speaker
END:VEVENT
BEGIN:VEVENT
DTSTART;TZID=America/Los_Angeles:20230101T180000
DTEND;TZID=America/Los_Angeles:20230101T190000
DTSTAMP:20260425T100429
CREATED:20221206T040821Z
LAST-MODIFIED:20221206T040821Z
UID:3439-1672596000-1672599600@loveandservicegroup.org
SUMMARY:Quarterly Birthday Panel
DESCRIPTION:
URL:https://loveandservicegroup.org/event/quarterly-birthday-panel
LOCATION:Hope Center Covenant Church\, 2275 Morello Ave\, Pleasant Hill\, CA\, 94523\, United States
CATEGORIES:Speaker
END:VEVENT
BEGIN:VEVENT
DTSTART;TZID=America/Los_Angeles:20221225T180000
DTEND;TZID=America/Los_Angeles:20221225T190000
DTSTAMP:20260425T100429
CREATED:20221206T040721Z
LAST-MODIFIED:20221206T040721Z
UID:3437-1671991200-1671994800@loveandservicegroup.org
SUMMARY:Jeff W. - Concord\, CA
DESCRIPTION:
URL:https://loveandservicegroup.org/event/jeff-w-concord-ca
LOCATION:Hope Center Covenant Church\, 2275 Morello Ave\, Pleasant Hill\, CA\, 94523\, United States
CATEGORIES:Speaker
END:VEVENT
BEGIN:VEVENT
DTSTART;TZID=America/Los_Angeles:20221218T180000
DTEND;TZID=America/Los_Angeles:20221218T190000
DTSTAMP:20260425T100429
CREATED:20221206T040629Z
LAST-MODIFIED:20221206T040629Z
UID:3435-1671386400-1671390000@loveandservicegroup.org
SUMMARY:Joann L. - Petaluma\, CA
DESCRIPTION:
URL:https://loveandservicegroup.org/event/joann-l-petaluma-ca
LOCATION:Hope Center Covenant Church\, 2275 Morello Ave\, Pleasant Hill\, CA\, 94523\, United States
CATEGORIES:Speaker
END:VEVENT
BEGIN:VEVENT
DTSTART;TZID=America/Los_Angeles:20221211T180000
DTEND;TZID=America/Los_Angeles:20221211T190000
DTSTAMP:20260425T100429
CREATED:20221106T003426Z
LAST-MODIFIED:20221106T003426Z
UID:3412-1670781600-1670785200@loveandservicegroup.org
SUMMARY:Marcelo N. - Novato\, CA
DESCRIPTION:
URL:https://loveandservicegroup.org/event/marcelo-n-novato-ca
LOCATION:CA
CATEGORIES:Speaker
END:VEVENT
BEGIN:VEVENT
DTSTART;TZID=America/Los_Angeles:20221204T180000
DTEND;TZID=America/Los_Angeles:20221204T190000
DTSTAMP:20260425T100429
CREATED:20221106T003305Z
LAST-MODIFIED:20221106T003305Z
UID:3410-1670176800-1670180400@loveandservicegroup.org
SUMMARY:Courtney P. - San Ramon\, CA
DESCRIPTION:
URL:https://loveandservicegroup.org/event/courtney-p-san-ramon-ca
LOCATION:CA
CATEGORIES:Speaker
END:VEVENT
BEGIN:VEVENT
DTSTART;TZID=America/Los_Angeles:20221127T180000
DTEND;TZID=America/Los_Angeles:20221127T190000
DTSTAMP:20260425T100429
CREATED:20221106T002925Z
LAST-MODIFIED:20221106T002925Z
UID:3408-1669572000-1669575600@loveandservicegroup.org
SUMMARY:Unity Panel - Concord Originals
DESCRIPTION:
URL:https://loveandservicegroup.org/event/unity-panel-concord-originals
LOCATION:CA
CATEGORIES:Speaker
END:VEVENT
BEGIN:VEVENT
DTSTART;TZID=America/Los_Angeles:20221120T180000
DTEND;TZID=America/Los_Angeles:20221120T190000
DTSTAMP:20260425T100429
CREATED:20220825T235112Z
LAST-MODIFIED:20220825T235112Z
UID:3335-1668967200-1668970800@loveandservicegroup.org
SUMMARY:Sheila M - Livermore\, CA
DESCRIPTION:
URL:https://loveandservicegroup.org/event/sheila-m-livermore-ca
LOCATION:Hope Center Covenant Church\, 2275 Morello Ave\, Pleasant Hill\, CA\, 94523\, United States
CATEGORIES:Speaker
END:VEVENT
BEGIN:VEVENT
DTSTART;TZID=America/Los_Angeles:20221113T180000
DTEND;TZID=America/Los_Angeles:20221113T190000
DTSTAMP:20260425T100429
CREATED:20220825T235051Z
LAST-MODIFIED:20220825T235051Z
UID:3333-1668362400-1668366000@loveandservicegroup.org
SUMMARY:Eric M - Concord\, CA
DESCRIPTION:
URL:https://loveandservicegroup.org/event/eric-m-concord-ca
LOCATION:Hope Center Covenant Church\, 2275 Morello Ave\, Pleasant Hill\, CA\, 94523\, United States
CATEGORIES:Speaker
END:VEVENT
BEGIN:VEVENT
DTSTART;TZID=America/Los_Angeles:20221106T180000
DTEND;TZID=America/Los_Angeles:20221106T190000
DTSTAMP:20260425T100429
CREATED:20221106T002645Z
LAST-MODIFIED:20221106T002645Z
UID:3405-1667757600-1667761200@loveandservicegroup.org
SUMMARY:Yvonne S. - Los Angeles\, CA
DESCRIPTION:
URL:https://loveandservicegroup.org/event/yvonne-s-los-angeles-ca
LOCATION:Hope Center Covenant Church\, 2275 Morello Ave\, Pleasant Hill\, CA\, 94523\, United States
CATEGORIES:Speaker
END:VEVENT
BEGIN:VEVENT
DTSTART;TZID=America/Los_Angeles:20221030T180000
DTEND;TZID=America/Los_Angeles:20221030T190000
DTSTAMP:20260425T100429
CREATED:20220825T235024Z
LAST-MODIFIED:20220825T235024Z
UID:3331-1667152800-1667156400@loveandservicegroup.org
SUMMARY:Rachel B - Pasadena\, CA
DESCRIPTION:
URL:https://loveandservicegroup.org/event/rachel-b-pasadena-ca
LOCATION:Hope Center Covenant Church\, 2275 Morello Ave\, Pleasant Hill\, CA\, 94523\, United States
CATEGORIES:Speaker
END:VEVENT
BEGIN:VEVENT
DTSTART;TZID=America/Los_Angeles:20221023T180000
DTEND;TZID=America/Los_Angeles:20221023T190000
DTSTAMP:20260425T100429
CREATED:20220825T235000Z
LAST-MODIFIED:20220825T235000Z
UID:3329-1666548000-1666551600@loveandservicegroup.org
SUMMARY:Keshoe S - Des Moines\, IA  (Zoom Speaker)
DESCRIPTION:
URL:https://loveandservicegroup.org/event/keshoe-s-des-moines-ia-zoom-speaker
LOCATION:Hope Center Covenant Church\, 2275 Morello Ave\, Pleasant Hill\, CA\, 94523\, United States
CATEGORIES:Speaker
END:VEVENT
BEGIN:VEVENT
DTSTART;TZID=America/Los_Angeles:20221016T180000
DTEND;TZID=America/Los_Angeles:20221016T190000
DTSTAMP:20260425T100429
CREATED:20221012T020335Z
LAST-MODIFIED:20221012T020335Z
UID:3371-1665943200-1665946800@loveandservicegroup.org
SUMMARY:Tina W. from El Sobrante\, CA
DESCRIPTION:
URL:https://loveandservicegroup.org/event/tina-w-from-el-sobrante-ca
LOCATION:Hope Center Covenant Church\, 2275 Morello Ave\, Pleasant Hill\, CA\, 94523\, United States
CATEGORIES:Speaker
END:VEVENT
BEGIN:VEVENT
DTSTART;TZID=America/Los_Angeles:20221009T180000
DTEND;TZID=America/Los_Angeles:20221009T190000
DTSTAMP:20260425T100429
CREATED:20220825T234931Z
LAST-MODIFIED:20220825T234931Z
UID:3327-1665338400-1665342000@loveandservicegroup.org
SUMMARY:Matthew M - Santa Paula\, CA
DESCRIPTION:
URL:https://loveandservicegroup.org/event/matthew-m-santa-paula-ca
LOCATION:Hope Center Covenant Church\, 2275 Morello Ave\, Pleasant Hill\, CA\, 94523\, United States
CATEGORIES:Speaker
END:VEVENT
BEGIN:VEVENT
DTSTART;TZID=America/Los_Angeles:20221002T180000
DTEND;TZID=America/Los_Angeles:20221002T190000
DTSTAMP:20260425T100429
CREATED:20220825T234907Z
LAST-MODIFIED:20220825T234907Z
UID:3325-1664733600-1664737200@loveandservicegroup.org
SUMMARY:Love & Service Anniversary Night
DESCRIPTION:
URL:https://loveandservicegroup.org/event/love-service-anniversary-night
LOCATION:Hope Center Covenant Church\, 2275 Morello Ave\, Pleasant Hill\, CA\, 94523\, United States
CATEGORIES:Speaker,Special Event
END:VEVENT
BEGIN:VEVENT
DTSTART;TZID=America/Los_Angeles:20220925T180000
DTEND;TZID=America/Los_Angeles:20220925T190000
DTSTAMP:20260425T100429
CREATED:20220825T234844Z
LAST-MODIFIED:20220825T234844Z
UID:3323-1664128800-1664132400@loveandservicegroup.org
SUMMARY:Qtr 3 Homegroup Birthday Night
DESCRIPTION:
URL:https://loveandservicegroup.org/event/qtr-3-homegroup-birthday-night
LOCATION:Hope Center Covenant Church\, 2275 Morello Ave\, Pleasant Hill\, CA\, 94523\, United States
CATEGORIES:Speaker,Special Event
END:VEVENT
BEGIN:VEVENT
DTSTART;TZID=America/Los_Angeles:20220918T180000
DTEND;TZID=America/Los_Angeles:20220918T190000
DTSTAMP:20260425T100429
CREATED:20220919T232014Z
LAST-MODIFIED:20220919T232014Z
UID:3350-1663524000-1663527600@loveandservicegroup.org
SUMMARY:Tony F from Brooklyn\, NY
DESCRIPTION:
URL:https://loveandservicegroup.org/event/tony-f-from-brooklyn-ny
LOCATION:Hope Center Covenant Church\, 2275 Morello Ave\, Pleasant Hill\, CA\, 94523\, United States
CATEGORIES:Speaker
END:VEVENT
BEGIN:VEVENT
DTSTART;TZID=America/Los_Angeles:20220911T180000
DTEND;TZID=America/Los_Angeles:20220911T190000
DTSTAMP:20260425T100429
CREATED:20220825T234811Z
LAST-MODIFIED:20220825T234811Z
UID:3321-1662919200-1662922800@loveandservicegroup.org
SUMMARY:Tamara B - Roseville\, CA
DESCRIPTION:
URL:https://loveandservicegroup.org/event/tamara-b-roseville-ca
LOCATION:Hope Center Covenant Church\, 2275 Morello Ave\, Pleasant Hill\, CA\, 94523\, United States
CATEGORIES:Speaker
END:VEVENT
BEGIN:VEVENT
DTSTART;TZID=America/Los_Angeles:20220904T180000
DTEND;TZID=America/Los_Angeles:20220904T190000
DTSTAMP:20260425T100429
CREATED:20220825T234747Z
LAST-MODIFIED:20220825T234747Z
UID:3319-1662314400-1662318000@loveandservicegroup.org
SUMMARY:Jeff D - Napa\, CA
DESCRIPTION:
URL:https://loveandservicegroup.org/event/jeff-d-napa-ca
LOCATION:Hope Center Covenant Church\, 2275 Morello Ave\, Pleasant Hill\, CA\, 94523\, United States
CATEGORIES:Speaker
END:VEVENT
BEGIN:VEVENT
DTSTART;TZID=America/Los_Angeles:20220828T180000
DTEND;TZID=America/Los_Angeles:20220828T190000
DTSTAMP:20260425T100429
CREATED:20220825T234723Z
LAST-MODIFIED:20220825T234723Z
UID:3317-1661709600-1661713200@loveandservicegroup.org
SUMMARY:Cameron L - San Jose\, CA
DESCRIPTION:
URL:https://loveandservicegroup.org/event/cameron-l-san-jose-ca
LOCATION:Hope Center Covenant Church\, 2275 Morello Ave\, Pleasant Hill\, CA\, 94523\, United States
CATEGORIES:Speaker
END:VEVENT
BEGIN:VEVENT
DTSTART;TZID=America/Los_Angeles:20220821T180000
DTEND;TZID=America/Los_Angeles:20220821T190000
DTSTAMP:20260425T100429
CREATED:20220605T030527Z
LAST-MODIFIED:20220808T012602Z
UID:3084-1661104800-1661108400@loveandservicegroup.org
SUMMARY:Frank H. from Pleasant Hill\, CA
DESCRIPTION:
URL:https://loveandservicegroup.org/event/frank-h-from-pleasant-hill
LOCATION:Hope Center Covenant Church\, 2275 Morello Ave\, Pleasant Hill\, CA\, 94523\, United States
CATEGORIES:Speaker
END:VEVENT
BEGIN:VEVENT
DTSTART;TZID=America/Los_Angeles:20220814T180000
DTEND;TZID=America/Los_Angeles:20220814T180000
DTSTAMP:20260425T100429
CREATED:20220815T004017Z
LAST-MODIFIED:20220815T015158Z
UID:3292-1660500000-1660500000@loveandservicegroup.org
SUMMARY:Unity Panel with the San Rafael Tuesday Chip Group
DESCRIPTION:
URL:https://loveandservicegroup.org/event/unity-panel-with-the-san-rafael-chip-group
LOCATION:Hope Center Covenant Church\, 2275 Morello Ave\, Pleasant Hill\, CA\, 94523\, United States
CATEGORIES:Speaker
END:VEVENT
END:VCALENDAR