BEGIN:VCALENDAR
VERSION:2.0
PRODID:-//Love &amp; Service Group of AA - ECPv6.15.20//NONSGML v1.0//EN
CALSCALE:GREGORIAN
METHOD:PUBLISH
X-ORIGINAL-URL:https://loveandservicegroup.org
X-WR-CALDESC:Events for Love &amp; Service Group of AA
REFRESH-INTERVAL;VALUE=DURATION:PT1H
X-Robots-Tag:noindex
X-PUBLISHED-TTL:PT1H
BEGIN:VTIMEZONE
TZID:America/Los_Angeles
BEGIN:DAYLIGHT
TZOFFSETFROM:-0800
TZOFFSETTO:-0700
TZNAME:PDT
DTSTART:20240310T100000
END:DAYLIGHT
BEGIN:STANDARD
TZOFFSETFROM:-0700
TZOFFSETTO:-0800
TZNAME:PST
DTSTART:20241103T090000
END:STANDARD
BEGIN:DAYLIGHT
TZOFFSETFROM:-0800
TZOFFSETTO:-0700
TZNAME:PDT
DTSTART:20250309T100000
END:DAYLIGHT
BEGIN:STANDARD
TZOFFSETFROM:-0700
TZOFFSETTO:-0800
TZNAME:PST
DTSTART:20251102T090000
END:STANDARD
BEGIN:DAYLIGHT
TZOFFSETFROM:-0800
TZOFFSETTO:-0700
TZNAME:PDT
DTSTART:20260308T100000
END:DAYLIGHT
BEGIN:STANDARD
TZOFFSETFROM:-0700
TZOFFSETTO:-0800
TZNAME:PST
DTSTART:20261101T090000
END:STANDARD
BEGIN:DAYLIGHT
TZOFFSETFROM:-0800
TZOFFSETTO:-0700
TZNAME:PDT
DTSTART:20270314T100000
END:DAYLIGHT
BEGIN:STANDARD
TZOFFSETFROM:-0700
TZOFFSETTO:-0800
TZNAME:PST
DTSTART:20271107T090000
END:STANDARD
END:VTIMEZONE
BEGIN:VEVENT
DTSTART;TZID=America/Los_Angeles:20260208T180000
DTEND;TZID=America/Los_Angeles:20260208T190000
DTSTAMP:20260424T081044
CREATED:20251103T221921Z
LAST-MODIFIED:20260201T221757Z
UID:5418-1770573600-1770577200@loveandservicegroup.org
SUMMARY:Debbie D. from Concord CA\, Reggie A. from Los Angeles & Marty J. from Vancouver BC
DESCRIPTION:
URL:https://loveandservicegroup.org/event/debbie-d-from-concord-ca-reggie-a-from-los-angeles-marty-j-from-vancouver-bc
CATEGORIES:Speaker
END:VEVENT
BEGIN:VEVENT
DTSTART;TZID=America/Los_Angeles:20260201T180000
DTEND;TZID=America/Los_Angeles:20260201T190000
DTSTAMP:20260424T081044
CREATED:20251103T221227Z
LAST-MODIFIED:20251103T221247Z
UID:5413-1769968800-1769972400@loveandservicegroup.org
SUMMARY:Chris C. from Portland\, OR
DESCRIPTION:
URL:https://loveandservicegroup.org/event/chris-clark-from-portland-or
CATEGORIES:Speaker
END:VEVENT
BEGIN:VEVENT
DTSTART;TZID=America/Los_Angeles:20260125T180000
DTEND;TZID=America/Los_Angeles:20260125T190000
DTSTAMP:20260424T081044
CREATED:20251103T220648Z
LAST-MODIFIED:20260122T220009Z
UID:5411-1769364000-1769367600@loveandservicegroup.org
SUMMARY:Birthday chip night\, ASL - Laura C. from Walnut Creek CA
DESCRIPTION:
URL:https://loveandservicegroup.org/event/aj-arms-from-san-jose-ca
CATEGORIES:ASL,Birthday Meeting,Speaker
END:VEVENT
BEGIN:VEVENT
DTSTART;TZID=America/Los_Angeles:20260118T180000
DTEND;TZID=America/Los_Angeles:20260118T190000
DTSTAMP:20260424T081044
CREATED:20251103T220537Z
LAST-MODIFIED:20251103T221536Z
UID:5409-1768759200-1768762800@loveandservicegroup.org
SUMMARY:Brent H. from Pasadena\, CA
DESCRIPTION:
URL:https://loveandservicegroup.org/event/brent-hough-from-pasadena-ca
CATEGORIES:Speaker
END:VEVENT
BEGIN:VEVENT
DTSTART;TZID=America/Los_Angeles:20260111T180000
DTEND;TZID=America/Los_Angeles:20260111T190000
DTSTAMP:20260424T081044
CREATED:20251228T224530Z
LAST-MODIFIED:20251228T224530Z
UID:5594-1768154400-1768158000@loveandservicegroup.org
SUMMARY:Eric M.\, from Concord CA
DESCRIPTION:
URL:https://loveandservicegroup.org/event/eric-m-from-concord-ca-2
CATEGORIES:Speaker
END:VEVENT
BEGIN:VEVENT
DTSTART;TZID=America/Los_Angeles:20260104T180000
DTEND;TZID=America/Los_Angeles:20260104T190000
DTSTAMP:20260424T081044
CREATED:20250714T042837Z
LAST-MODIFIED:20251228T224339Z
UID:5143-1767549600-1767553200@loveandservicegroup.org
SUMMARY:Jocko R.\, from Concord CA
DESCRIPTION:
URL:https://loveandservicegroup.org/event/kathy-w-from-pleasanton-ca
CATEGORIES:Speaker
END:VEVENT
BEGIN:VEVENT
DTSTART;TZID=America/Los_Angeles:20251228T180000
DTEND;TZID=America/Los_Angeles:20251228T190000
DTSTAMP:20260424T081044
CREATED:20250714T042644Z
LAST-MODIFIED:20251110T193518Z
UID:5141-1766944800-1766948400@loveandservicegroup.org
SUMMARY:Birthday chip night\, ASL - Paul D. from San Ramon\, CA.
DESCRIPTION:
URL:https://loveandservicegroup.org/event/paul-d-from-san-ramon-ca
CATEGORIES:ASL,Birthday Meeting,Speaker
END:VEVENT
BEGIN:VEVENT
DTSTART;TZID=America/Los_Angeles:20251221T180000
DTEND;TZID=America/Los_Angeles:20251221T190000
DTSTAMP:20260424T081044
CREATED:20250714T042430Z
LAST-MODIFIED:20251123T231506Z
UID:5139-1766340000-1766343600@loveandservicegroup.org
SUMMARY:Ole-Jan H. from Greenbrae\, CA
DESCRIPTION:
URL:https://loveandservicegroup.org/event/gail-l-from-the-villages-fl
CATEGORIES:Speaker
END:VEVENT
BEGIN:VEVENT
DTSTART;TZID=America/Los_Angeles:20251214T180000
DTEND;TZID=America/Los_Angeles:20251214T190000
DTSTAMP:20260424T081044
CREATED:20251103T215646Z
LAST-MODIFIED:20251103T215646Z
UID:5403-1765735200-1765738800@loveandservicegroup.org
SUMMARY:Mickey G from Pleasant Hill\, CA
DESCRIPTION:
URL:https://loveandservicegroup.org/event/mickey-g-from-pleasant-hill-ca
CATEGORIES:Speaker
END:VEVENT
BEGIN:VEVENT
DTSTART;TZID=America/Los_Angeles:20251207T180000
DTEND;TZID=America/Los_Angeles:20251207T190000
DTSTAMP:20260424T081044
CREATED:20250826T024344Z
LAST-MODIFIED:20251123T225905Z
UID:5244-1765130400-1765134000@loveandservicegroup.org
SUMMARY:Brendan D. from Seattle\, WA.
DESCRIPTION:
URL:https://loveandservicegroup.org/event/brenden-d-from-seattle-wa
CATEGORIES:Speaker
END:VEVENT
BEGIN:VEVENT
DTSTART;TZID=America/Los_Angeles:20251130T180000
DTEND;TZID=America/Los_Angeles:20251130T190000
DTSTAMP:20260424T081044
CREATED:20250714T042125Z
LAST-MODIFIED:20250927T222650Z
UID:5136-1764525600-1764529200@loveandservicegroup.org
SUMMARY:Marne D. from Las Vegas\, NV.
DESCRIPTION:
URL:https://loveandservicegroup.org/event/marne-g-from-las-vegas-nv
CATEGORIES:Speaker
END:VEVENT
BEGIN:VEVENT
DTSTART;TZID=America/Los_Angeles:20251123T180000
DTEND;TZID=America/Los_Angeles:20251123T190000
DTSTAMP:20260424T081044
CREATED:20251031T013343Z
LAST-MODIFIED:20251110T193558Z
UID:5395-1763920800-1763924400@loveandservicegroup.org
SUMMARY:Birthday chip night\, ASL - Drew B. from Martinez\, CA
DESCRIPTION:
URL:https://loveandservicegroup.org/event/drew-b-from-martinez-ca
CATEGORIES:ASL,Birthday Meeting,Speaker
END:VEVENT
BEGIN:VEVENT
DTSTART;TZID=America/Los_Angeles:20251116T180000
DTEND;TZID=America/Los_Angeles:20251116T190000
DTSTAMP:20260424T081044
CREATED:20250714T041832Z
LAST-MODIFIED:20250714T041832Z
UID:5131-1763316000-1763319600@loveandservicegroup.org
SUMMARY:Courtney P. from Walnut Creek\, Ca.
DESCRIPTION:
URL:https://loveandservicegroup.org/event/courtney-p-from-walnut-creek-ca
CATEGORIES:Speaker
END:VEVENT
BEGIN:VEVENT
DTSTART;TZID=America/Los_Angeles:20251109T180000
DTEND;TZID=America/Los_Angeles:20251109T190000
DTSTAMP:20260424T081044
CREATED:20250714T040251Z
LAST-MODIFIED:20250714T041933Z
UID:5129-1762711200-1762714800@loveandservicegroup.org
SUMMARY:Arisa B. from Brooklyn\, MA.
DESCRIPTION:
URL:https://loveandservicegroup.org/event/arisa-b-from-brooklyn-ma
CATEGORIES:Speaker
END:VEVENT
BEGIN:VEVENT
DTSTART;TZID=America/Los_Angeles:20251102T180000
DTEND;TZID=America/Los_Angeles:20251102T190000
DTSTAMP:20260424T081044
CREATED:20250714T034817Z
LAST-MODIFIED:20251031T013030Z
UID:5127-1762106400-1762110000@loveandservicegroup.org
SUMMARY:Heidi S. from Grove City\, PA.
DESCRIPTION:
URL:https://loveandservicegroup.org/event/heidi-s-from-grove-city-pa
CATEGORIES:Speaker
END:VEVENT
BEGIN:VEVENT
DTSTART;TZID=America/Los_Angeles:20251026T180000
DTEND;TZID=America/Los_Angeles:20251026T190000
DTSTAMP:20260424T081044
CREATED:20250714T034643Z
LAST-MODIFIED:20250714T035734Z
UID:5125-1761501600-1761505200@loveandservicegroup.org
SUMMARY:Mari G. from Toronto Canada
DESCRIPTION:
URL:https://loveandservicegroup.org/event/mari-g-from-toronto-canada
CATEGORIES:Speaker
END:VEVENT
BEGIN:VEVENT
DTSTART;TZID=America/Los_Angeles:20251019T180000
DTEND;TZID=America/Los_Angeles:20251019T190000
DTSTAMP:20260424T081044
CREATED:20250714T034438Z
LAST-MODIFIED:20250714T035247Z
UID:5123-1760896800-1760900400@loveandservicegroup.org
SUMMARY:Jack M. from Pleasanton\, CA.
DESCRIPTION:
URL:https://loveandservicegroup.org/event/jack-m-from-pleasanton-ca
CATEGORIES:Speaker
END:VEVENT
BEGIN:VEVENT
DTSTART;TZID=America/Los_Angeles:20251012T180000
DTEND;TZID=America/Los_Angeles:20251012T190000
DTSTAMP:20260424T081044
CREATED:20250506T014021Z
LAST-MODIFIED:20250506T014021Z
UID:4987-1760292000-1760295600@loveandservicegroup.org
SUMMARY:Ralph W. from Los Angeles\, CA
DESCRIPTION:
URL:https://loveandservicegroup.org/event/ralph-w-from-los-angeles-ca-3
LOCATION:Hope Center Covenant Church\, 2275 Morello Ave\, Pleasant Hill\, CA\, 94523\, United States
CATEGORIES:Speaker
END:VEVENT
BEGIN:VEVENT
DTSTART;TZID=America/Los_Angeles:20251005T180000
DTEND;TZID=America/Los_Angeles:20251005T190000
DTSTAMP:20260424T081044
CREATED:20250506T013912Z
LAST-MODIFIED:20250919T143033Z
UID:4985-1759687200-1759690800@loveandservicegroup.org
SUMMARY:Steve L. from Los Angeles\, CA
DESCRIPTION:
URL:https://loveandservicegroup.org/event/steve-l-from-los-angeles-ca
LOCATION:Hope Center Covenant Church\, 2275 Morello Ave\, Pleasant Hill\, CA\, 94523\, United States
CATEGORIES:Speaker
END:VEVENT
BEGIN:VEVENT
DTSTART;TZID=America/Los_Angeles:20250928T180000
DTEND;TZID=America/Los_Angeles:20250928T190000
DTSTAMP:20260424T081044
CREATED:20250506T013747Z
LAST-MODIFIED:20250714T035112Z
UID:4983-1759082400-1759086000@loveandservicegroup.org
SUMMARY:Birthday Chip Night - Laurie H. from Martinez\, CA
DESCRIPTION:
URL:https://loveandservicegroup.org/event/birthday-chip-night-laurie-h-from-martinez-ca
CATEGORIES:Speaker
END:VEVENT
BEGIN:VEVENT
DTSTART;TZID=America/Los_Angeles:20250921T180000
DTEND;TZID=America/Los_Angeles:20250921T190000
DTSTAMP:20260424T081044
CREATED:20250506T013646Z
LAST-MODIFIED:20250914T190723Z
UID:4981-1758477600-1758481200@loveandservicegroup.org
SUMMARY:Christy S. from Pacheco\, CA
DESCRIPTION:
URL:https://loveandservicegroup.org/event/carla-r-from-los-angeles-ca
LOCATION:Hope Center Covenant Church\, 2275 Morello Ave\, Pleasant Hill\, CA\, 94523\, United States
CATEGORIES:Speaker
END:VEVENT
BEGIN:VEVENT
DTSTART;TZID=America/Los_Angeles:20250914T180000
DTEND;TZID=America/Los_Angeles:20250914T190000
DTSTAMP:20260424T081044
CREATED:20250506T013556Z
LAST-MODIFIED:20250506T013556Z
UID:4979-1757872800-1757876400@loveandservicegroup.org
SUMMARY:Donna S. from Scottsdale\, AZ
DESCRIPTION:
URL:https://loveandservicegroup.org/event/donna-s-from-scottsdale-az
LOCATION:Hope Center Covenant Church\, 2275 Morello Ave\, Pleasant Hill\, CA\, 94523\, United States
CATEGORIES:Speaker
END:VEVENT
BEGIN:VEVENT
DTSTART;TZID=America/Los_Angeles:20250907T180000
DTEND;TZID=America/Los_Angeles:20250907T190000
DTSTAMP:20260424T081044
CREATED:20250506T013346Z
LAST-MODIFIED:20250506T013346Z
UID:4977-1757268000-1757271600@loveandservicegroup.org
SUMMARY:Tom W. from Oakland\, CA
DESCRIPTION:
URL:https://loveandservicegroup.org/event/tom-w-from-oakland-ca-2
LOCATION:Hope Center Covenant Church\, 2275 Morello Ave\, Pleasant Hill\, CA\, 94523\, United States
CATEGORIES:Speaker
END:VEVENT
BEGIN:VEVENT
DTSTART;TZID=America/Los_Angeles:20250831T180000
DTEND;TZID=America/Los_Angeles:20250831T190000
DTSTAMP:20260424T081044
CREATED:20250506T013241Z
LAST-MODIFIED:20250714T041640Z
UID:4975-1756663200-1756666800@loveandservicegroup.org
SUMMARY:Birthday Chip Night - L&S Speakers - Dawn M. and Cyn S.
DESCRIPTION:Dawn M. and Cyn S.
URL:https://loveandservicegroup.org/event/birthday-chip-night-ls-speakers
LOCATION:Hope Center Covenant Church\, 2275 Morello Ave\, Pleasant Hill\, CA\, 94523\, United States
CATEGORIES:Speaker
END:VEVENT
BEGIN:VEVENT
DTSTART;TZID=America/Los_Angeles:20250824T180000
DTEND;TZID=America/Los_Angeles:20250824T190000
DTSTAMP:20260424T081044
CREATED:20250506T013153Z
LAST-MODIFIED:20250506T013153Z
UID:4973-1756058400-1756062000@loveandservicegroup.org
SUMMARY:Lorraine M. from Placerville\, CA
DESCRIPTION:
URL:https://loveandservicegroup.org/event/lorraine-m-from-placerville-ca-2
LOCATION:Hope Center Covenant Church\, 2275 Morello Ave\, Pleasant Hill\, CA\, 94523\, United States
CATEGORIES:Speaker
END:VEVENT
BEGIN:VEVENT
DTSTART;TZID=America/Los_Angeles:20250817T180000
DTEND;TZID=America/Los_Angeles:20250817T190000
DTSTAMP:20260424T081044
CREATED:20250114T195136Z
LAST-MODIFIED:20250114T195629Z
UID:4822-1755453600-1755457200@loveandservicegroup.org
SUMMARY:Jimmy A. from New Jersey
DESCRIPTION:
URL:https://loveandservicegroup.org/event/jimmy-a-from-new-jersey-ny
CATEGORIES:Speaker
END:VEVENT
BEGIN:VEVENT
DTSTART;TZID=America/Los_Angeles:20250810T180000
DTEND;TZID=America/Los_Angeles:20250810T190000
DTSTAMP:20260424T081044
CREATED:20250506T012927Z
LAST-MODIFIED:20250506T013037Z
UID:4969-1754848800-1754852400@loveandservicegroup.org
SUMMARY:Yuko P. from Torrance\, CA
DESCRIPTION:
URL:https://loveandservicegroup.org/event/yuko-p-from-torrence-ca
LOCATION:Hope Center Covenant Church\, 2275 Morello Ave\, Pleasant Hill\, CA\, 94523\, United States
CATEGORIES:Speaker
END:VEVENT
BEGIN:VEVENT
DTSTART;TZID=America/Los_Angeles:20250803T180000
DTEND;TZID=America/Los_Angeles:20250803T190000
DTSTAMP:20260424T081044
CREATED:20250114T195422Z
LAST-MODIFIED:20250506T012815Z
UID:4825-1754244000-1754247600@loveandservicegroup.org
SUMMARY:Jeffrey N. from Novato\, CA
DESCRIPTION:
URL:https://loveandservicegroup.org/event/hilda-f-from-tajunga-ca
LOCATION:Hope Center Covenant Church\, 2275 Morello Ave\, Pleasant Hill\, CA\, 94523\, United States
CATEGORIES:Speaker
END:VEVENT
BEGIN:VEVENT
DTSTART;TZID=America/Los_Angeles:20250727T180000
DTEND;TZID=America/Los_Angeles:20250727T190000
DTSTAMP:20260424T081044
CREATED:20250114T195025Z
LAST-MODIFIED:20250114T195210Z
UID:4820-1753639200-1753642800@loveandservicegroup.org
SUMMARY:Karl M. from Covina CA.
DESCRIPTION:
URL:https://loveandservicegroup.org/event/marl-m-from-covina-ca
CATEGORIES:Speaker
END:VEVENT
BEGIN:VEVENT
DTSTART;TZID=America/Los_Angeles:20250720T180000
DTEND;TZID=America/Los_Angeles:20250720T190000
DTSTAMP:20260424T081044
CREATED:20250114T194919Z
LAST-MODIFIED:20250114T194919Z
UID:4818-1753034400-1753038000@loveandservicegroup.org
SUMMARY:Charlie C. from Oxnard CA.
DESCRIPTION:
URL:https://loveandservicegroup.org/event/charlie-c-from-oxnard-ca
CATEGORIES:Speaker
END:VEVENT
END:VCALENDAR