BEGIN:VCALENDAR
VERSION:2.0
PRODID:-//Love &amp; Service Group of AA - ECPv6.15.20//NONSGML v1.0//EN
CALSCALE:GREGORIAN
METHOD:PUBLISH
X-ORIGINAL-URL:https://loveandservicegroup.org
X-WR-CALDESC:Events for Love &amp; Service Group of AA
REFRESH-INTERVAL;VALUE=DURATION:PT1H
X-Robots-Tag:noindex
X-PUBLISHED-TTL:PT1H
BEGIN:VTIMEZONE
TZID:America/Los_Angeles
BEGIN:DAYLIGHT
TZOFFSETFROM:-0800
TZOFFSETTO:-0700
TZNAME:PDT
DTSTART:20220313T100000
END:DAYLIGHT
BEGIN:STANDARD
TZOFFSETFROM:-0700
TZOFFSETTO:-0800
TZNAME:PST
DTSTART:20221106T090000
END:STANDARD
BEGIN:DAYLIGHT
TZOFFSETFROM:-0800
TZOFFSETTO:-0700
TZNAME:PDT
DTSTART:20230312T100000
END:DAYLIGHT
BEGIN:STANDARD
TZOFFSETFROM:-0700
TZOFFSETTO:-0800
TZNAME:PST
DTSTART:20231105T090000
END:STANDARD
BEGIN:DAYLIGHT
TZOFFSETFROM:-0800
TZOFFSETTO:-0700
TZNAME:PDT
DTSTART:20240310T100000
END:DAYLIGHT
BEGIN:STANDARD
TZOFFSETFROM:-0700
TZOFFSETTO:-0800
TZNAME:PST
DTSTART:20241103T090000
END:STANDARD
BEGIN:DAYLIGHT
TZOFFSETFROM:-0800
TZOFFSETTO:-0700
TZNAME:PDT
DTSTART:20250309T100000
END:DAYLIGHT
BEGIN:STANDARD
TZOFFSETFROM:-0700
TZOFFSETTO:-0800
TZNAME:PST
DTSTART:20251102T090000
END:STANDARD
END:VTIMEZONE
BEGIN:VEVENT
DTSTART;TZID=America/Los_Angeles:20240407T180000
DTEND;TZID=America/Los_Angeles:20240407T190000
DTSTAMP:20260424T204255
CREATED:20240111T230216Z
LAST-MODIFIED:20240111T230216Z
UID:4279-1712512800-1712516400@loveandservicegroup.org
SUMMARY:Laura B. from Mable Falls\, TX
DESCRIPTION:
URL:https://loveandservicegroup.org/event/laura-b-from-mable-falls-tx
CATEGORIES:Speaker
END:VEVENT
BEGIN:VEVENT
DTSTART;TZID=America/Los_Angeles:20240331T180000
DTEND;TZID=America/Los_Angeles:20240331T190000
DTSTAMP:20260424T204255
CREATED:20240104T202311Z
LAST-MODIFIED:20240104T202311Z
UID:4266-1711908000-1711911600@loveandservicegroup.org
SUMMARY:Darla A. from Martinez\, CA
DESCRIPTION:
URL:https://loveandservicegroup.org/event/darla-a-from-martinez-ca
CATEGORIES:Speaker
END:VEVENT
BEGIN:VEVENT
DTSTART;TZID=America/Los_Angeles:20240324T180000
DTEND;TZID=America/Los_Angeles:20240324T190000
DTSTAMP:20260424T204255
CREATED:20231231T215545Z
LAST-MODIFIED:20240109T011412Z
UID:4255-1711303200-1711306800@loveandservicegroup.org
SUMMARY:Errico B. from Oakland\, CA *ASL Interpretation
DESCRIPTION:
URL:https://loveandservicegroup.org/event/errico-b-from-oakland-ca
CATEGORIES:Speaker
END:VEVENT
BEGIN:VEVENT
DTSTART;TZID=America/Los_Angeles:20240317T180000
DTEND;TZID=America/Los_Angeles:20240317T190000
DTSTAMP:20260424T204255
CREATED:20240104T202221Z
LAST-MODIFIED:20240104T202221Z
UID:4264-1710698400-1710702000@loveandservicegroup.org
SUMMARY:Birthday Night (Homegroup members)
DESCRIPTION:
URL:https://loveandservicegroup.org/event/birthday-night-homegroup-members
CATEGORIES:Speaker
END:VEVENT
BEGIN:VEVENT
DTSTART;TZID=America/Los_Angeles:20240310T180000
DTEND;TZID=America/Los_Angeles:20240310T190000
DTSTAMP:20260424T204255
CREATED:20231231T215414Z
LAST-MODIFIED:20231231T215414Z
UID:4253-1710093600-1710097200@loveandservicegroup.org
SUMMARY:Mike F. from Aurora\, CO
DESCRIPTION:
URL:https://loveandservicegroup.org/event/mike-f-from-aurora-co
CATEGORIES:Speaker
END:VEVENT
BEGIN:VEVENT
DTSTART;TZID=America/Los_Angeles:20240310T163000
DTEND;TZID=America/Los_Angeles:20240310T173000
DTSTAMP:20260424T204255
CREATED:20230405T055304Z
LAST-MODIFIED:20230405T055304Z
UID:3589-1710088200-1710091800@loveandservicegroup.org
SUMMARY:Monthly Business Meeting
DESCRIPTION:The monthly business meeting. You can also join via Zoom\, check Slack or our Newsletter for details on joining virtually.
URL:https://loveandservicegroup.org/event/monthly-business-meeting-13
LOCATION:Hope Center Covenant Church\, 2275 Morello Ave\, Pleasant Hill\, CA\, 94523\, United States
CATEGORIES:Business Meeting,Speaker
END:VEVENT
BEGIN:VEVENT
DTSTART;TZID=America/Los_Angeles:20240303T180000
DTEND;TZID=America/Los_Angeles:20240303T190000
DTSTAMP:20260424T204255
CREATED:20231231T215253Z
LAST-MODIFIED:20231231T215253Z
UID:4251-1709488800-1709492400@loveandservicegroup.org
SUMMARY:Greg M. from Las Vegas\, NV
DESCRIPTION:
URL:https://loveandservicegroup.org/event/greg-m-from-las-vegas-nv
CATEGORIES:Speaker
END:VEVENT
BEGIN:VEVENT
DTSTART;TZID=America/Los_Angeles:20240225T180000
DTEND;TZID=America/Los_Angeles:20240225T190000
DTSTAMP:20260424T204255
CREATED:20231231T215717Z
LAST-MODIFIED:20240109T011256Z
UID:4257-1708884000-1708887600@loveandservicegroup.org
SUMMARY:Chase C. from Fairfield\, CA *ASL Interpretation
DESCRIPTION:
URL:https://loveandservicegroup.org/event/birthday-night-home-group-speakers
CATEGORIES:Speaker
END:VEVENT
BEGIN:VEVENT
DTSTART;TZID=America/Los_Angeles:20240218T180000
DTEND;TZID=America/Los_Angeles:20240218T190000
DTSTAMP:20260424T204255
CREATED:20231231T215146Z
LAST-MODIFIED:20231231T215323Z
UID:4249-1708279200-1708282800@loveandservicegroup.org
SUMMARY:Mark F. from San Ramon\, CA
DESCRIPTION:
URL:https://loveandservicegroup.org/event/mark-f-from-san-ramon-ca
CATEGORIES:Speaker
END:VEVENT
BEGIN:VEVENT
DTSTART;TZID=America/Los_Angeles:20240211T180000
DTEND;TZID=America/Los_Angeles:20240211T190000
DTSTAMP:20260424T204255
CREATED:20231231T214932Z
LAST-MODIFIED:20231231T214932Z
UID:4247-1707674400-1707678000@loveandservicegroup.org
SUMMARY:Panel: Service in AA
DESCRIPTION:
URL:https://loveandservicegroup.org/event/panel-service-in-aa
CATEGORIES:Speaker
END:VEVENT
BEGIN:VEVENT
DTSTART;TZID=America/Los_Angeles:20240211T163000
DTEND;TZID=America/Los_Angeles:20240211T173000
DTSTAMP:20260424T204255
CREATED:20230405T055303Z
LAST-MODIFIED:20230405T055303Z
UID:3588-1707669000-1707672600@loveandservicegroup.org
SUMMARY:Monthly Business Meeting
DESCRIPTION:The monthly business meeting. You can also join via Zoom\, check Slack or our Newsletter for details on joining virtually.
URL:https://loveandservicegroup.org/event/monthly-business-meeting-12
LOCATION:Hope Center Covenant Church\, 2275 Morello Ave\, Pleasant Hill\, CA\, 94523\, United States
CATEGORIES:Business Meeting,Speaker
END:VEVENT
BEGIN:VEVENT
DTSTART;TZID=America/Los_Angeles:20240204T180000
DTEND;TZID=America/Los_Angeles:20240204T190000
DTSTAMP:20260424T204255
CREATED:20231205T170332Z
LAST-MODIFIED:20231217T191921Z
UID:4207-1707069600-1707073200@loveandservicegroup.org
SUMMARY:Nicole C. from San Jose\, CA
DESCRIPTION:
URL:https://loveandservicegroup.org/event/nicole-c-from-san-jose
CATEGORIES:Speaker
END:VEVENT
BEGIN:VEVENT
DTSTART;TZID=America/Los_Angeles:20240128T180000
DTEND;TZID=America/Los_Angeles:20240128T190000
DTSTAMP:20260424T204255
CREATED:20231231T214838Z
LAST-MODIFIED:20240109T011210Z
UID:4245-1706464800-1706468400@loveandservicegroup.org
SUMMARY:Lauren C. from Martinez *ASL Interpretation
DESCRIPTION:
URL:https://loveandservicegroup.org/event/lauren-c-from-martinez
CATEGORIES:Speaker
END:VEVENT
BEGIN:VEVENT
DTSTART;TZID=America/Los_Angeles:20240121T180000
DTEND;TZID=America/Los_Angeles:20240121T190000
DTSTAMP:20260424T204255
CREATED:20231205T170225Z
LAST-MODIFIED:20231217T191837Z
UID:4205-1705860000-1705863600@loveandservicegroup.org
SUMMARY:Nedra G. from Pasadena\, CA
DESCRIPTION:
URL:https://loveandservicegroup.org/event/nedra-g-from-pasadena
CATEGORIES:Speaker
END:VEVENT
BEGIN:VEVENT
DTSTART;TZID=America/Los_Angeles:20240114T180000
DTEND;TZID=America/Los_Angeles:20240114T190000
DTSTAMP:20260424T204255
CREATED:20231205T170150Z
LAST-MODIFIED:20231217T191814Z
UID:4203-1705255200-1705258800@loveandservicegroup.org
SUMMARY:Joel C. from San Diego\, CA
DESCRIPTION:
URL:https://loveandservicegroup.org/event/joel-c-from-san-diego
CATEGORIES:Speaker
END:VEVENT
BEGIN:VEVENT
DTSTART;TZID=America/Los_Angeles:20240114T163000
DTEND;TZID=America/Los_Angeles:20240114T173000
DTSTAMP:20260424T204255
CREATED:20230405T055249Z
LAST-MODIFIED:20230405T055249Z
UID:3587-1705249800-1705253400@loveandservicegroup.org
SUMMARY:Monthly Business Meeting
DESCRIPTION:The monthly business meeting. You can also join via Zoom\, check Slack or our Newsletter for details on joining virtually.
URL:https://loveandservicegroup.org/event/monthly-business-meeting-11
LOCATION:Hope Center Covenant Church\, 2275 Morello Ave\, Pleasant Hill\, CA\, 94523\, United States
CATEGORIES:Business Meeting,Speaker
END:VEVENT
BEGIN:VEVENT
DTSTART;TZID=America/Los_Angeles:20240107T180000
DTEND;TZID=America/Los_Angeles:20240107T190000
DTSTAMP:20260424T204255
CREATED:20231205T170100Z
LAST-MODIFIED:20240104T230142Z
UID:4201-1704650400-1704654000@loveandservicegroup.org
SUMMARY:Unity Panel: WACYPAA
DESCRIPTION:
URL:https://loveandservicegroup.org/event/raymundo-l-from-san-jose
CATEGORIES:Speaker
END:VEVENT
BEGIN:VEVENT
DTSTART;TZID=America/Los_Angeles:20231231T180000
DTEND;TZID=America/Los_Angeles:20231231T190000
DTSTAMP:20260424T204255
CREATED:20231205T165939Z
LAST-MODIFIED:20231205T165939Z
UID:4199-1704045600-1704049200@loveandservicegroup.org
SUMMARY:Home Group Birthday Night
DESCRIPTION:
URL:https://loveandservicegroup.org/event/home-group-birthday-night-3
CATEGORIES:Speaker
END:VEVENT
BEGIN:VEVENT
DTSTART;TZID=America/Los_Angeles:20231224T180000
DTEND;TZID=America/Los_Angeles:20231224T190000
DTSTAMP:20260424T204255
CREATED:20231205T165820Z
LAST-MODIFIED:20231217T191411Z
UID:4197-1703440800-1703444400@loveandservicegroup.org
SUMMARY:Neal W. from Antioch\, CA
DESCRIPTION:We will be in the portable\, Court 3\, behind the church for this meeting. There will be folks out front directing you in.
URL:https://loveandservicegroup.org/event/neal-w-from-antioch
LOCATION:Hope Center Covenant Church\, 2275 Morello Ave\, Pleasant Hill\, CA\, 94523\, United States
CATEGORIES:Speaker
END:VEVENT
BEGIN:VEVENT
DTSTART;TZID=America/Los_Angeles:20231221T190000
DTEND;TZID=America/Los_Angeles:20231221T200000
DTSTAMP:20260424T204255
CREATED:20230405T053352Z
LAST-MODIFIED:20230405T053352Z
UID:3575-1703185200-1703188800@loveandservicegroup.org
SUMMARY:Love & Service Group AA Meeting
DESCRIPTION:Choice of Newcomer\, Big Book\, Steps/Traditions/Concepts\, or Intro to Meditation.
URL:https://loveandservicegroup.org/event/love-service-group-aa-meeting-111
LOCATION:Hope Center Covenant Church\, 2275 Morello Ave\, Pleasant Hill\, CA\, 94523\, United States
CATEGORIES:Regular AA Meeting,Speaker
END:VEVENT
BEGIN:VEVENT
DTSTART;TZID=America/Los_Angeles:20231217T180000
DTEND;TZID=America/Los_Angeles:20231217T190000
DTSTAMP:20260424T204255
CREATED:20231205T165437Z
LAST-MODIFIED:20231217T191338Z
UID:4195-1702836000-1702839600@loveandservicegroup.org
SUMMARY:Sara A. from Concord\, CA
DESCRIPTION:
URL:https://loveandservicegroup.org/event/sara-a-from-concord
CATEGORIES:Speaker
END:VEVENT
BEGIN:VEVENT
DTSTART;TZID=America/Los_Angeles:20231214T190000
DTEND;TZID=America/Los_Angeles:20231214T200000
DTSTAMP:20260424T204255
CREATED:20230405T053352Z
LAST-MODIFIED:20230405T053352Z
UID:3574-1702580400-1702584000@loveandservicegroup.org
SUMMARY:Love & Service Group AA Meeting
DESCRIPTION:Choice of Newcomer\, Big Book\, Steps/Traditions/Concepts\, or Intro to Meditation.
URL:https://loveandservicegroup.org/event/love-service-group-aa-meeting-110
LOCATION:Hope Center Covenant Church\, 2275 Morello Ave\, Pleasant Hill\, CA\, 94523\, United States
CATEGORIES:Regular AA Meeting,Speaker
END:VEVENT
BEGIN:VEVENT
DTSTART;TZID=America/Los_Angeles:20231210T180000
DTEND;TZID=America/Los_Angeles:20231210T190000
DTSTAMP:20260424T204255
CREATED:20231205T165250Z
LAST-MODIFIED:20231217T191301Z
UID:4193-1702231200-1702234800@loveandservicegroup.org
SUMMARY:Roger Y. from Martinez\, CA
DESCRIPTION:
URL:https://loveandservicegroup.org/event/roger-y-from-martinez
CATEGORIES:Speaker
END:VEVENT
BEGIN:VEVENT
DTSTART;TZID=America/Los_Angeles:20231210T163000
DTEND;TZID=America/Los_Angeles:20231210T173000
DTSTAMP:20260424T204255
CREATED:20230405T055248Z
LAST-MODIFIED:20230405T055248Z
UID:3586-1702225800-1702229400@loveandservicegroup.org
SUMMARY:Monthly Business Meeting
DESCRIPTION:The monthly business meeting. You can also join via Zoom\, check Slack or our Newsletter for details on joining virtually.
URL:https://loveandservicegroup.org/event/monthly-business-meeting-10
LOCATION:Hope Center Covenant Church\, 2275 Morello Ave\, Pleasant Hill\, CA\, 94523\, United States
CATEGORIES:Business Meeting,Speaker
END:VEVENT
BEGIN:VEVENT
DTSTART;TZID=America/Los_Angeles:20231207T190000
DTEND;TZID=America/Los_Angeles:20231207T200000
DTSTAMP:20260424T204255
CREATED:20230405T053352Z
LAST-MODIFIED:20230405T053352Z
UID:3573-1701975600-1701979200@loveandservicegroup.org
SUMMARY:Love & Service Group AA Meeting
DESCRIPTION:Choice of Newcomer\, Big Book\, Steps/Traditions/Concepts\, or Intro to Meditation.
URL:https://loveandservicegroup.org/event/love-service-group-aa-meeting-109
LOCATION:Hope Center Covenant Church\, 2275 Morello Ave\, Pleasant Hill\, CA\, 94523\, United States
CATEGORIES:Regular AA Meeting,Speaker
END:VEVENT
BEGIN:VEVENT
DTSTART;TZID=America/Los_Angeles:20231203T180000
DTEND;TZID=America/Los_Angeles:20231203T190000
DTSTAMP:20260424T204255
CREATED:20231205T170436Z
LAST-MODIFIED:20231205T170436Z
UID:4209-1701626400-1701630000@loveandservicegroup.org
SUMMARY:Relationship Panel - Shannon B\, Alexis C\, & Matt C
DESCRIPTION:
URL:https://loveandservicegroup.org/event/relationship-panel-shannon-b-alexis-c-matt-c
CATEGORIES:Speaker
END:VEVENT
BEGIN:VEVENT
DTSTART;TZID=America/Los_Angeles:20231130T190000
DTEND;TZID=America/Los_Angeles:20231130T200000
DTSTAMP:20260424T204255
CREATED:20230405T053351Z
LAST-MODIFIED:20230405T053351Z
UID:3572-1701370800-1701374400@loveandservicegroup.org
SUMMARY:Love & Service Group AA Meeting
DESCRIPTION:Choice of Newcomer\, Big Book\, Steps/Traditions/Concepts\, or Intro to Meditation.
URL:https://loveandservicegroup.org/event/love-service-group-aa-meeting-108
LOCATION:Hope Center Covenant Church\, 2275 Morello Ave\, Pleasant Hill\, CA\, 94523\, United States
CATEGORIES:Regular AA Meeting,Speaker
END:VEVENT
BEGIN:VEVENT
DTSTART;TZID=America/Los_Angeles:20231126T180000
DTEND;TZID=America/Los_Angeles:20231126T190000
DTSTAMP:20260424T204255
CREATED:20230924T234858Z
LAST-MODIFIED:20231128T201102Z
UID:4013-1701021600-1701025200@loveandservicegroup.org
SUMMARY:Leslie A. -Concord\, CA
DESCRIPTION:
URL:https://loveandservicegroup.org/event/leslie-a-concord-ca-2
CATEGORIES:Speaker
END:VEVENT
BEGIN:VEVENT
DTSTART;TZID=America/Los_Angeles:20231123T190000
DTEND;TZID=America/Los_Angeles:20231123T200000
DTSTAMP:20260424T204255
CREATED:20230405T053351Z
LAST-MODIFIED:20230405T053351Z
UID:3571-1700766000-1700769600@loveandservicegroup.org
SUMMARY:Love & Service Group AA Meeting
DESCRIPTION:Choice of Newcomer\, Big Book\, Steps/Traditions/Concepts\, or Intro to Meditation.
URL:https://loveandservicegroup.org/event/love-service-group-aa-meeting-107
LOCATION:Hope Center Covenant Church\, 2275 Morello Ave\, Pleasant Hill\, CA\, 94523\, United States
CATEGORIES:Regular AA Meeting,Speaker
END:VEVENT
BEGIN:VEVENT
DTSTART;TZID=America/Los_Angeles:20231119T180000
DTEND;TZID=America/Los_Angeles:20231119T190000
DTSTAMP:20260424T204255
CREATED:20230924T234827Z
LAST-MODIFIED:20230924T234827Z
UID:4011-1700416800-1700420400@loveandservicegroup.org
SUMMARY:Lorraine M - Placerville\, CA
DESCRIPTION:
URL:https://loveandservicegroup.org/event/lorraine-m-placerville-ca
CATEGORIES:Speaker
END:VEVENT
END:VCALENDAR